BEGIN:VCALENDAR
VERSION:2.0
PRODID:-//Ortsgemeinde Konken - ECPv6.15.11//NONSGML v1.0//EN
CALSCALE:GREGORIAN
METHOD:PUBLISH
X-ORIGINAL-URL:https://www.konken.eu
X-WR-CALDESC:Veranstaltungen für Ortsgemeinde Konken
REFRESH-INTERVAL;VALUE=DURATION:PT1H
X-Robots-Tag:noindex
X-PUBLISHED-TTL:PT1H
BEGIN:VTIMEZONE
TZID:Europe/Berlin
BEGIN:DAYLIGHT
TZOFFSETFROM:+0100
TZOFFSETTO:+0200
TZNAME:CEST
DTSTART:20250330T010000
END:DAYLIGHT
BEGIN:STANDARD
TZOFFSETFROM:+0200
TZOFFSETTO:+0100
TZNAME:CET
DTSTART:20251026T010000
END:STANDARD
BEGIN:DAYLIGHT
TZOFFSETFROM:+0100
TZOFFSETTO:+0200
TZNAME:CEST
DTSTART:20260329T010000
END:DAYLIGHT
BEGIN:STANDARD
TZOFFSETFROM:+0200
TZOFFSETTO:+0100
TZNAME:CET
DTSTART:20261025T010000
END:STANDARD
BEGIN:DAYLIGHT
TZOFFSETFROM:+0100
TZOFFSETTO:+0200
TZNAME:CEST
DTSTART:20270328T010000
END:DAYLIGHT
BEGIN:STANDARD
TZOFFSETFROM:+0200
TZOFFSETTO:+0100
TZNAME:CET
DTSTART:20271031T010000
END:STANDARD
END:VTIMEZONE
BEGIN:VEVENT
DTSTART;VALUE=DATE:20260920
DTEND;VALUE=DATE:20260921
DTSTAMP:20260423T121131
CREATED:20260208T173731Z
LAST-MODIFIED:20260208T173734Z
UID:1821-1789862400-1789948799@www.konken.eu
SUMMARY:Obst- und Gartenbauverein: Gartenfest mit Latwergekochen auf dem Vereinsgelände
DESCRIPTION:19. oder 20.09.26 \nDer genaue Termin wird noch bekannt gegeben. Weitere Informationen folgen.
URL:https://www.konken.eu/event/obst-und-gartenbauverein-gartenfest-mit-latwergekochen-auf-dem-vereinsgelaende-2/
LOCATION:Gelände des OGV Konken
END:VEVENT
BEGIN:VEVENT
DTSTART;VALUE=DATE:20260925
DTEND;VALUE=DATE:20260926
DTSTAMP:20260423T121131
CREATED:20260208T174133Z
LAST-MODIFIED:20260208T174136Z
UID:1823-1790294400-1790380799@www.konken.eu
SUMMARY:Beginn des Kelterbetriebes bis Ende Oktober beim Obst- und Gartenbauverein (Helfer willkommen)
DESCRIPTION:Kelterbetrieb: ab 25.09.  - Ende Oktober\nEs werden Helfer noch gesucht!\nBitte melden bei Alice Ludwig.
URL:https://www.konken.eu/event/beginn-des-kelterbetriebes-bis-ende-oktober-beim-obst-und-gartenbauverein-helfer-willkommen/
LOCATION:Gelände des OGV Konken
END:VEVENT
BEGIN:VEVENT
DTSTART;TZID=Europe/Berlin:20260926T160000
DTEND;TZID=Europe/Berlin:20260926T160000
DTSTAMP:20260423T121131
CREATED:20260206T190544Z
LAST-MODIFIED:20260206T190548Z
UID:1792-1790438400-1790438400@www.konken.eu
SUMMARY:Bürgercafé: Zwiebelkuchen und Federweißer
DESCRIPTION:
URL:https://www.konken.eu/event/buergercafe-zwiebelkuchen-und-federweisser/
LOCATION:Haus der Kulinarischen Landstraße\, Hauptstraße 42\, Konken\, 66871\, Deutschland
END:VEVENT
BEGIN:VEVENT
DTSTART;TZID=Europe/Berlin:20261013T193000
DTEND;TZID=Europe/Berlin:20261013T193000
DTSTAMP:20260423T121131
CREATED:20260206T190825Z
LAST-MODIFIED:20260206T190827Z
UID:1794-1791919800-1791919800@www.konken.eu
SUMMARY:Kochkurs: rote Beete regional\, gesund und voller Power (interne Veranstaltung - Interessenten willkommen)
DESCRIPTION:Kursleiterin Beate Fritsch
URL:https://www.konken.eu/event/kochkurs-rote-beete-regional-gesund-und-voller-power-interne-veranstaltung-interessenten-willkommen/
LOCATION:Haus der Kulinarischen Landstraße\, Hauptstraße 42\, Konken\, 66871\, Deutschland
END:VEVENT
BEGIN:VEVENT
DTSTART;TZID=Europe/Berlin:20261019T190000
DTEND;TZID=Europe/Berlin:20261019T190000
DTSTAMP:20260423T121131
CREATED:20260206T191007Z
LAST-MODIFIED:20260206T191241Z
UID:1796-1792436400-1792436400@www.konken.eu
SUMMARY:Spieleabend der Landfrauen (Interne Veranstaltung - Interessenten willkommen)
DESCRIPTION:
URL:https://www.konken.eu/event/spieleabend-der-landfrauen-interne-veranstaltung-interessenten-willkommen-3/
LOCATION:Haus der Kulinarischen Landstraße\, Hauptstraße 42\, Konken\, 66871\, Deutschland
END:VEVENT
BEGIN:VEVENT
DTSTART;TZID=Europe/Berlin:20261028T190000
DTEND;TZID=Europe/Berlin:20261028T190000
DTSTAMP:20260423T121131
CREATED:20260206T191526Z
LAST-MODIFIED:20260206T191531Z
UID:1798-1793214000-1793214000@www.konken.eu
SUMMARY:Gesundheitskurs: Gesunde Wirbelsäule (interne Veranstaltung - Interessenten willkommen)
DESCRIPTION:Kursleiterin Melanie Wagner
URL:https://www.konken.eu/event/gesundheitskurs-gesunde-wirbelsaeule-interne-veranstaltung-interessenten-willkommen/
LOCATION:Haus der Kulinarischen Landstraße\, Hauptstraße 42\, Konken\, 66871\, Deutschland
END:VEVENT
BEGIN:VEVENT
DTSTART;TZID=Europe/Berlin:20261103T190000
DTEND;TZID=Europe/Berlin:20261103T190000
DTSTAMP:20260423T121131
CREATED:20260206T191807Z
LAST-MODIFIED:20260206T191810Z
UID:1800-1793732400-1793732400@www.konken.eu
SUMMARY:Spieleabend der Landfrauen (interne Veranstaltung - Interessenten willkommen)
DESCRIPTION:
URL:https://www.konken.eu/event/spieleabend-der-landfrauen-interne-veranstaltung-interessenten-willkommen-4/
LOCATION:Haus der Kulinarischen Landstraße\, Hauptstraße 42\, Konken\, 66871\, Deutschland
END:VEVENT
BEGIN:VEVENT
DTSTART;TZID=Europe/Berlin:20261111T180000
DTEND;TZID=Europe/Berlin:20261111T180000
DTSTAMP:20260423T121131
CREATED:20260208T174704Z
LAST-MODIFIED:20260208T174707Z
UID:1826-1794420000-1794420000@www.konken.eu
SUMMARY:St. Martinsfeier in Konken
DESCRIPTION:Weitere Informationen folgen.
URL:https://www.konken.eu/event/st-martinsfeier-in-konken/
LOCATION:Schule und Festwiese
END:VEVENT
BEGIN:VEVENT
DTSTART;TZID=Europe/Berlin:20261111T180000
DTEND;TZID=Europe/Berlin:20261111T180000
DTSTAMP:20260423T121131
CREATED:20260224T205724Z
LAST-MODIFIED:20260224T205727Z
UID:1838-1794420000-1794420000@www.konken.eu
SUMMARY:Martinsfeier
DESCRIPTION:Weitere Informationen folgen!
URL:https://www.konken.eu/event/martinsfeier/
LOCATION:Schule und Festwiese
END:VEVENT
BEGIN:VEVENT
DTSTART;TZID=Europe/Berlin:20261116T190000
DTEND;TZID=Europe/Berlin:20261116T190000
DTSTAMP:20260423T121131
CREATED:20260206T192054Z
LAST-MODIFIED:20260206T192058Z
UID:1802-1794855600-1794855600@www.konken.eu
SUMMARY:Aquarellmalerei 2.Teil (interne Veranstaltung - Interessenten willkommen)
DESCRIPTION:Kursleiterin Angelika Lawall
URL:https://www.konken.eu/event/aquarellmalerei-2-teil-interne-veranstaltung-interessenten-willkommen/
LOCATION:Haus der Kulinarischen Landstraße\, Hauptstraße 42\, Konken\, 66871\, Deutschland
END:VEVENT
BEGIN:VEVENT
DTSTART;TZID=Europe/Berlin:20261123T190000
DTEND;TZID=Europe/Berlin:20261123T190000
DTSTAMP:20260423T121131
CREATED:20260206T192412Z
LAST-MODIFIED:20260206T192415Z
UID:1804-1795460400-1795460400@www.konken.eu
SUMMARY:Mit-Mach-Kurs: Herstellen von weihnachtlichen Gestecken/Kränzen (interne Veranstaltung - Interssenten willkommen)
DESCRIPTION:
URL:https://www.konken.eu/event/mit-mach-kurs-herstellen-von-weihnachtlichen-gestecken-kraenzen-interne-veranstaltung-interssenten-willkommen/
LOCATION:Haus der Kulinarischen Landstraße\, Hauptstraße 42\, Konken\, 66871\, Deutschland
END:VEVENT
BEGIN:VEVENT
DTSTART;TZID=Europe/Berlin:20261208T190000
DTEND;TZID=Europe/Berlin:20261208T190000
DTSTAMP:20260423T121131
CREATED:20260206T192640Z
LAST-MODIFIED:20260206T192644Z
UID:1808-1796756400-1796756400@www.konken.eu
SUMMARY:Weihnachtsfeier Landfrauen (interne Veranstaltung)
DESCRIPTION:
URL:https://www.konken.eu/event/weihnachtsfeier-landfrauen-interne-veranstaltung/
LOCATION:Haus der Kulinarischen Landstraße\, Hauptstraße 42\, Konken\, 66871\, Deutschland
END:VEVENT
BEGIN:VEVENT
DTSTART;TZID=Europe/Berlin:20261214T190000
DTEND;TZID=Europe/Berlin:20261214T190000
DTSTAMP:20260423T121131
CREATED:20260206T192832Z
LAST-MODIFIED:20260206T192836Z
UID:1810-1797274800-1797274800@www.konken.eu
SUMMARY:Spieleabend bei den Landfrauen (interne Veranstaltung - Interessenten willkommen)
DESCRIPTION:
URL:https://www.konken.eu/event/spieleabend-bei-den-landfrauen-interne-veranstaltung-interessenten-willkommen/
LOCATION:Haus der Kulinarischen Landstraße\, Hauptstraße 42\, Konken\, 66871\, Deutschland
END:VEVENT
END:VCALENDAR