BEGIN:VCALENDAR
VERSION:2.0
PRODID:-//Ortsgemeinde Konken - ECPv6.15.11//NONSGML v1.0//EN
CALSCALE:GREGORIAN
METHOD:PUBLISH
X-ORIGINAL-URL:https://www.konken.eu
X-WR-CALDESC:Veranstaltungen für Ortsgemeinde Konken
REFRESH-INTERVAL;VALUE=DURATION:PT1H
X-Robots-Tag:noindex
X-PUBLISHED-TTL:PT1H
BEGIN:VTIMEZONE
TZID:Europe/Berlin
BEGIN:DAYLIGHT
TZOFFSETFROM:+0100
TZOFFSETTO:+0200
TZNAME:CEST
DTSTART:20250330T010000
END:DAYLIGHT
BEGIN:STANDARD
TZOFFSETFROM:+0200
TZOFFSETTO:+0100
TZNAME:CET
DTSTART:20251026T010000
END:STANDARD
BEGIN:DAYLIGHT
TZOFFSETFROM:+0100
TZOFFSETTO:+0200
TZNAME:CEST
DTSTART:20260329T010000
END:DAYLIGHT
BEGIN:STANDARD
TZOFFSETFROM:+0200
TZOFFSETTO:+0100
TZNAME:CET
DTSTART:20261025T010000
END:STANDARD
BEGIN:DAYLIGHT
TZOFFSETFROM:+0100
TZOFFSETTO:+0200
TZNAME:CEST
DTSTART:20270328T010000
END:DAYLIGHT
BEGIN:STANDARD
TZOFFSETFROM:+0200
TZOFFSETTO:+0100
TZNAME:CET
DTSTART:20271031T010000
END:STANDARD
END:VTIMEZONE
BEGIN:VEVENT
DTSTART;TZID=Europe/Berlin:20261103T190000
DTEND;TZID=Europe/Berlin:20261103T190000
DTSTAMP:20260424T022040
CREATED:20260206T191807Z
LAST-MODIFIED:20260206T191810Z
UID:1800-1793732400-1793732400@www.konken.eu
SUMMARY:Spieleabend der Landfrauen (interne Veranstaltung - Interessenten willkommen)
DESCRIPTION:
URL:https://www.konken.eu/event/spieleabend-der-landfrauen-interne-veranstaltung-interessenten-willkommen-4/
LOCATION:Haus der Kulinarischen Landstraße\, Hauptstraße 42\, Konken\, 66871\, Deutschland
END:VEVENT
BEGIN:VEVENT
DTSTART;TZID=Europe/Berlin:20261111T180000
DTEND;TZID=Europe/Berlin:20261111T180000
DTSTAMP:20260424T022040
CREATED:20260208T174704Z
LAST-MODIFIED:20260208T174707Z
UID:1826-1794420000-1794420000@www.konken.eu
SUMMARY:St. Martinsfeier in Konken
DESCRIPTION:Weitere Informationen folgen.
URL:https://www.konken.eu/event/st-martinsfeier-in-konken/
LOCATION:Schule und Festwiese
END:VEVENT
BEGIN:VEVENT
DTSTART;TZID=Europe/Berlin:20261111T180000
DTEND;TZID=Europe/Berlin:20261111T180000
DTSTAMP:20260424T022040
CREATED:20260224T205724Z
LAST-MODIFIED:20260224T205727Z
UID:1838-1794420000-1794420000@www.konken.eu
SUMMARY:Martinsfeier
DESCRIPTION:Weitere Informationen folgen!
URL:https://www.konken.eu/event/martinsfeier/
LOCATION:Schule und Festwiese
END:VEVENT
BEGIN:VEVENT
DTSTART;TZID=Europe/Berlin:20261116T190000
DTEND;TZID=Europe/Berlin:20261116T190000
DTSTAMP:20260424T022040
CREATED:20260206T192054Z
LAST-MODIFIED:20260206T192058Z
UID:1802-1794855600-1794855600@www.konken.eu
SUMMARY:Aquarellmalerei 2.Teil (interne Veranstaltung - Interessenten willkommen)
DESCRIPTION:Kursleiterin Angelika Lawall
URL:https://www.konken.eu/event/aquarellmalerei-2-teil-interne-veranstaltung-interessenten-willkommen/
LOCATION:Haus der Kulinarischen Landstraße\, Hauptstraße 42\, Konken\, 66871\, Deutschland
END:VEVENT
BEGIN:VEVENT
DTSTART;TZID=Europe/Berlin:20261123T190000
DTEND;TZID=Europe/Berlin:20261123T190000
DTSTAMP:20260424T022040
CREATED:20260206T192412Z
LAST-MODIFIED:20260206T192415Z
UID:1804-1795460400-1795460400@www.konken.eu
SUMMARY:Mit-Mach-Kurs: Herstellen von weihnachtlichen Gestecken/Kränzen (interne Veranstaltung - Interssenten willkommen)
DESCRIPTION:
URL:https://www.konken.eu/event/mit-mach-kurs-herstellen-von-weihnachtlichen-gestecken-kraenzen-interne-veranstaltung-interssenten-willkommen/
LOCATION:Haus der Kulinarischen Landstraße\, Hauptstraße 42\, Konken\, 66871\, Deutschland
END:VEVENT
END:VCALENDAR