BEGIN:VCALENDAR
VERSION:2.0
PRODID:-//Ortsgemeinde Konken - ECPv6.15.11//NONSGML v1.0//EN
CALSCALE:GREGORIAN
METHOD:PUBLISH
X-WR-CALNAME:Ortsgemeinde Konken
X-ORIGINAL-URL:https://www.konken.eu
X-WR-CALDESC:Veranstaltungen für Ortsgemeinde Konken
REFRESH-INTERVAL;VALUE=DURATION:PT1H
X-Robots-Tag:noindex
X-PUBLISHED-TTL:PT1H
BEGIN:VTIMEZONE
TZID:Europe/Berlin
BEGIN:DAYLIGHT
TZOFFSETFROM:+0100
TZOFFSETTO:+0200
TZNAME:CEST
DTSTART:20250330T010000
END:DAYLIGHT
BEGIN:STANDARD
TZOFFSETFROM:+0200
TZOFFSETTO:+0100
TZNAME:CET
DTSTART:20251026T010000
END:STANDARD
BEGIN:DAYLIGHT
TZOFFSETFROM:+0100
TZOFFSETTO:+0200
TZNAME:CEST
DTSTART:20260329T010000
END:DAYLIGHT
BEGIN:STANDARD
TZOFFSETFROM:+0200
TZOFFSETTO:+0100
TZNAME:CET
DTSTART:20261025T010000
END:STANDARD
BEGIN:DAYLIGHT
TZOFFSETFROM:+0100
TZOFFSETTO:+0200
TZNAME:CEST
DTSTART:20270328T010000
END:DAYLIGHT
BEGIN:STANDARD
TZOFFSETFROM:+0200
TZOFFSETTO:+0100
TZNAME:CET
DTSTART:20271031T010000
END:STANDARD
END:VTIMEZONE
BEGIN:VEVENT
DTSTART;TZID=Europe/Berlin:20260501T113000
DTEND;TZID=Europe/Berlin:20260501T113000
DTSTAMP:20260423T182211
CREATED:20260125T070535Z
LAST-MODIFIED:20260301T091655Z
UID:1738-1777635000-1777635000@www.konken.eu
SUMMARY:1. Mai in Konken
DESCRIPTION:
URL:https://www.konken.eu/event/1-mai-in-konken/
LOCATION:Feuerwehr-Gerätehaus
ATTACH;FMTTYPE=image/png:https://www.konken.eu/wp-content/uploads/2026/03/4.png
END:VEVENT
BEGIN:VEVENT
DTSTART;TZID=Europe/Berlin:20260511T190000
DTEND;TZID=Europe/Berlin:20260511T190000
DTSTAMP:20260423T182211
CREATED:20260206T185705Z
LAST-MODIFIED:20260206T185708Z
UID:1787-1778526000-1778526000@www.konken.eu
SUMMARY:Spieleabend der Landfrauen (interne Veranstaltung - Interessenten Willkommen)
DESCRIPTION:
URL:https://www.konken.eu/event/spieleabend-der-landfrauen-interne-veranstaltung-interessenten-willkommen-2/
LOCATION:Haus der Kulinarischen Landstraße\, Hauptstraße 42\, Konken\, 66871\, Deutschland
END:VEVENT
BEGIN:VEVENT
DTSTART;TZID=Europe/Berlin:20260530T150000
DTEND;TZID=Europe/Berlin:20260530T150000
DTSTAMP:20260423T182211
CREATED:20260208T173111Z
LAST-MODIFIED:20260316T072727Z
UID:1814-1780153200-1780153200@www.konken.eu
SUMMARY:Obst- und Gartenbauverein: Wanderung zur Weiherhütte Langenbach
DESCRIPTION:Bitte Voranmeldung bei Alice Ludwig bis 23.05.26 \nAbmarsch 15:00 Uhr am Dorfplatz
URL:https://www.konken.eu/event/obst-und-gartnbauverein-wanderung-zur-weiherhuette-langenbach/
LOCATION:Dorfplatz Konken
END:VEVENT
END:VCALENDAR