BEGIN:VCALENDAR
VERSION:2.0
PRODID:-//Ortsgemeinde Konken - ECPv6.15.11//NONSGML v1.0//EN
CALSCALE:GREGORIAN
METHOD:PUBLISH
X-WR-CALNAME:Ortsgemeinde Konken
X-ORIGINAL-URL:https://www.konken.eu
X-WR-CALDESC:Veranstaltungen für Ortsgemeinde Konken
REFRESH-INTERVAL;VALUE=DURATION:PT1H
X-Robots-Tag:noindex
X-PUBLISHED-TTL:PT1H
BEGIN:VTIMEZONE
TZID:Europe/Berlin
BEGIN:DAYLIGHT
TZOFFSETFROM:+0100
TZOFFSETTO:+0200
TZNAME:CEST
DTSTART:20250330T010000
END:DAYLIGHT
BEGIN:STANDARD
TZOFFSETFROM:+0200
TZOFFSETTO:+0100
TZNAME:CET
DTSTART:20251026T010000
END:STANDARD
BEGIN:DAYLIGHT
TZOFFSETFROM:+0100
TZOFFSETTO:+0200
TZNAME:CEST
DTSTART:20260329T010000
END:DAYLIGHT
BEGIN:STANDARD
TZOFFSETFROM:+0200
TZOFFSETTO:+0100
TZNAME:CET
DTSTART:20261025T010000
END:STANDARD
BEGIN:DAYLIGHT
TZOFFSETFROM:+0100
TZOFFSETTO:+0200
TZNAME:CEST
DTSTART:20270328T010000
END:DAYLIGHT
BEGIN:STANDARD
TZOFFSETFROM:+0200
TZOFFSETTO:+0100
TZNAME:CET
DTSTART:20271031T010000
END:STANDARD
END:VTIMEZONE
BEGIN:VEVENT
DTSTART;TZID=Europe/Berlin:20260204T190000
DTEND;TZID=Europe/Berlin:20260204T190000
DTSTAMP:20260423T195325
CREATED:20260125T070015Z
LAST-MODIFIED:20260126T165200Z
UID:1731-1770231600-1770231600@www.konken.eu
SUMMARY:Sitzung des Ortsgemeinderates
DESCRIPTION:  \n\n\n\n\n\n\n\n\n\n\n\n\n\n\n\n\n\n\n\n\n\n\n\n\n\n\n\n\n\n\n\nSitzung des Ortsgemeinderates\n\n\n\n\n\n\n  \n\n\n\nSitzung des Ortsgemeinderates der Ortsgemeinde Konken am 04. Februar 2026 um 19:00 Uhr. \n26. Januar 2026   \n\n\n\n\n\n\n\n\n\n\n\n\n\nAm Mittwoch\, 04.02.2026 um 19:00 Uhr\, findet im Haus der Kulinarischen Landstraße Konken\, die nächste Sitzung des Ortsgemeinderates der Ortsgemeinde Konken statt. \nTagesordnung\nÖffentlicher Teil\n\n1.    Einwohnerfragestunde\nNach § 21 Abs. 3 der Geschäftsordnung für den Ortsgemeinderat Konken sollen dem Ortsbürgermeister nach Möglichkeit die Fragen 3 Arbeitstage vor der Sitzung schriftlich zugeleitet werden. \n2.    Beratung und Beschlussfassung über die Anfrage der Kreisverwaltung Kusel zur Ausrichtung des Bauernmarktes 2026 \n3.    Landesförderprogramm „Regional.Zukunft.Nachhaltig.“; hier: Beratung über die weitere Vorgehensweise \n4.    Förderprogramm „Dritter Ort“; hier: Informationen \n5.    Netzwerkverbünde in Kindertagesstätten; Vereinbarung über Sachkosten \n6.    Vollzug der Gemeindeordnung (§ 94 Abs. 3 GemO); hier: Annahme einer Sponsoringleistung \n7.    Vollzug des Baugesetzbuches (BauGB); gemeindliches Einvernehmen gemäß § 36 BauGB wegen Bauantrag Erweiterung Grundschule und Mehrzweckhalle (Mensa) im Geltungsbereich des Bebauungsplanes „Bei der Leimenkaut“; Abweichungsantrag \n8.    Informationen/Verschiedenes \nNichtöffentlicher Teil\n\n9.    Grundstücksangelegenheiten \n10.  Informationen/Verschiedenes \nKonken\, 26.01.2026\ngez. Christian Gießler\n(Ortsbürgermeister) \n\n\n\n\n\n\n\n\n\n 
URL:https://www.konken.eu/event/sitzung-des-ortsgemeinderates-16/
LOCATION:Haus der Kulinarischen Landstraße\, Hauptstraße 42\, Konken\, 66871\, Deutschland
END:VEVENT
BEGIN:VEVENT
DTSTART;TZID=Europe/Berlin:20260210T160000
DTEND;TZID=Europe/Berlin:20260210T203000
DTSTAMP:20260423T195325
CREATED:20260119T172731Z
LAST-MODIFIED:20260119T172835Z
UID:1727-1770739200-1770755400@www.konken.eu
SUMMARY:Konker Ü 60 geht digital (7. Teil)
DESCRIPTION:Leiter des Workshops: Digitalbotschafter Peter Theiß \n\nThemen des Workshops: \nKünstliche Intelligenz \n\nerste Tipps\nwo ist Vorsicht geboten\n\n1. Gruppe von 16:00 – 17:30 Uhr \n\n\n\n2. Gruppe von 17:30 – 19:00 Uhr \n3. Gruppe von 19:00 – 20:30 Uhr \n\n\n\nDIBO_Workshop_Flyer_2026_Konken \nDie Gemeinde bedankt sich bei Digitalbotschafter Peter Theiß für die Durchführung der Workshops! \nVielen lieben Dank
URL:https://www.konken.eu/event/konker-ue-60-geht-digital-7-teil/
LOCATION:Haus der Kulinarischen Landstraße\, Hauptstraße 42\, Konken\, 66871\, Deutschland
END:VEVENT
BEGIN:VEVENT
DTSTART;TZID=Europe/Berlin:20260224T190000
DTEND;TZID=Europe/Berlin:20260224T210000
DTSTAMP:20260423T195325
CREATED:20260204T200103Z
LAST-MODIFIED:20260208T193045Z
UID:1767-1771959600-1771966800@www.konken.eu
SUMMARY:Bürgerstammtisch im „Gelobten Land Konken“
DESCRIPTION:Flyer Bürgerstammtisch 24.02.2026
URL:https://www.konken.eu/event/24-02-2026-buergerstammtisch-im-buergersaal/
LOCATION:Haus der Kulinarischen Landstraße\, Hauptstraße 42\, Konken\, 66871\, Deutschland
END:VEVENT
END:VCALENDAR