BEGIN:VCALENDAR
VERSION:2.0
PRODID:-//Ortsgemeinde Konken - ECPv6.15.11//NONSGML v1.0//EN
CALSCALE:GREGORIAN
METHOD:PUBLISH
X-ORIGINAL-URL:https://www.konken.eu
X-WR-CALDESC:Veranstaltungen für Ortsgemeinde Konken
REFRESH-INTERVAL;VALUE=DURATION:PT1H
X-Robots-Tag:noindex
X-PUBLISHED-TTL:PT1H
BEGIN:VTIMEZONE
TZID:Europe/Berlin
BEGIN:DAYLIGHT
TZOFFSETFROM:+0100
TZOFFSETTO:+0200
TZNAME:CEST
DTSTART:20240331T010000
END:DAYLIGHT
BEGIN:STANDARD
TZOFFSETFROM:+0200
TZOFFSETTO:+0100
TZNAME:CET
DTSTART:20241027T010000
END:STANDARD
BEGIN:DAYLIGHT
TZOFFSETFROM:+0100
TZOFFSETTO:+0200
TZNAME:CEST
DTSTART:20250330T010000
END:DAYLIGHT
BEGIN:STANDARD
TZOFFSETFROM:+0200
TZOFFSETTO:+0100
TZNAME:CET
DTSTART:20251026T010000
END:STANDARD
BEGIN:DAYLIGHT
TZOFFSETFROM:+0100
TZOFFSETTO:+0200
TZNAME:CEST
DTSTART:20260329T010000
END:DAYLIGHT
BEGIN:STANDARD
TZOFFSETFROM:+0200
TZOFFSETTO:+0100
TZNAME:CET
DTSTART:20261025T010000
END:STANDARD
END:VTIMEZONE
BEGIN:VEVENT
DTSTART;TZID=Europe/Berlin:20251101T113000
DTEND;TZID=Europe/Berlin:20251101T120000
DTSTAMP:20260424T044311
CREATED:20241031T071544Z
LAST-MODIFIED:20251017T083802Z
UID:1095-1761996600-1761998400@www.konken.eu
SUMMARY:"Gefillde" essen
DESCRIPTION:
URL:https://www.konken.eu/event/gefillde-essen/
LOCATION:Sportheim SV Konken „Im Unterwald“
ATTACH;FMTTYPE=image/jpeg:https://www.konken.eu/wp-content/uploads/2024/10/IMG_4097.jpeg
END:VEVENT
BEGIN:VEVENT
DTSTART;TZID=Europe/Berlin:20251101T170000
DTEND;TZID=Europe/Berlin:20251101T170000
DTSTAMP:20260424T044311
CREATED:20251017T173413Z
LAST-MODIFIED:20251017T175834Z
UID:1606-1762016400-1762016400@www.konken.eu
SUMMARY:Konzert in der Kirche St. Veith mit dem Duo Limone "Ausflug nach Sansoucci"
DESCRIPTION:
URL:https://www.konken.eu/event/konzert-in-der-kirche-st-veith-mit-dem-duo-limone-ausflug-nach-sansoucci/
LOCATION:Kirche St. Veith\, Konken
ATTACH;FMTTYPE=image/jpeg:https://www.konken.eu/wp-content/uploads/2025/10/Duo-Limone-.jpg
END:VEVENT
BEGIN:VEVENT
DTSTART;TZID=Europe/Berlin:20251102T150000
DTEND;TZID=Europe/Berlin:20251102T150000
DTSTAMP:20260424T044311
CREATED:20251005T152052Z
LAST-MODIFIED:20251017T175930Z
UID:1574-1762095600-1762095600@www.konken.eu
SUMMARY:Konzert der Jugendorchester
DESCRIPTION:Konzert der Jugendorchester der Vereine: \n\nKVK Enkenbach (Jugend & Percussion-Ensemble)\nKBO Kaiserslautern\nMV Konken\nMV Rodenbach
URL:https://www.konken.eu/event/konzert-der-jugendorchester/
LOCATION:Turn- und Festhalle Konken\, Hochstraße 11\, Deutschland\, 66871\, Deutschland
ATTACH;FMTTYPE=image/jpeg:https://www.konken.eu/wp-content/uploads/2025/10/IMG_4095.jpeg
END:VEVENT
BEGIN:VEVENT
DTSTART;TZID=Europe/Berlin:20251105T190000
DTEND;TZID=Europe/Berlin:20251105T190000
DTSTAMP:20260424T044311
CREATED:20251103T123036Z
LAST-MODIFIED:20251103T123039Z
UID:1632-1762369200-1762369200@www.konken.eu
SUMMARY:Sitzung des Ortsgemeinderates
DESCRIPTION:Am Mittwoch\, 05.11.2025 um 19:00 Uhr\, findet im Haus der Kulinarischen Landstraße Konken\, die nächste Sitzung des Ortsgemeinderates der Ortsgemeinde Konken statt. \nTagesordnung\nÖffentlicher Teil\n\n1.    Ausbau der L350; hier: Informationen \n2.    Endstufenausbau im NBG Breitwies/Flur; hier: Zustimmung zur vorgestellten Entwurfsplanung \n3.    Lenkungsausschuss Bauernmarkt; hier: Auflösung \n4.    Beratung und Beschlussfassung über die Mittelverwendung aus dem Förderprogramm „Das Dorfbudget“ \n5.    Annahme Spenden \n5.1    Vollzug der Gemeindeordnung (§ 94 Abs. 3 GemO)\, hier: Mitteilung zu Spenden \n5.2    Vollzug der Gemeindeordnung (§ 94 Abs. 3 GemO)\, hier: Annahme von Spenden \n5.3    Vollzug der Gemeindeordnung (§ 94 Abs. 3 GemO)\, hier: Annahme einer Sachspende \n5.4    Vollzug der Gemeindeordnung (§ 94 Abs. 3 GemO)\, hier: Annahme einer Sachspende \n6.    Vollzug der Gemeindeordnung (§ 94 Abs. 3 GemO)\, hier: Annahme einer Sponsoringleistung \n7.    Hochwasserschutz; hier: Informationen \n8.    Jubiläumssommermarkt 2026; hier: Informationen \n9.    Informationen/Verschiedenes \nNichtöffentlicher Teil\n\n10.   Grundstücksangelegenheiten \n11.   Informationen/Verschiedenes \nKonken\, 23.10.2025\ngez. Christian Gießler\n(Ortsbürgermeister)
URL:https://www.konken.eu/event/sitzung-des-ortsgemeinderates-13/
LOCATION:Haus der Kulinarischen Landstraße\, Hauptstraße 42\, Konken\, 66871\, Deutschland
END:VEVENT
BEGIN:VEVENT
DTSTART;TZID=Europe/Berlin:20251111T180000
DTEND;TZID=Europe/Berlin:20251111T180000
DTSTAMP:20260424T044311
CREATED:20251004T022439Z
LAST-MODIFIED:20251022T140318Z
UID:1571-1762884000-1762884000@www.konken.eu
SUMMARY:St. Martinsfeier an der Grundschule
DESCRIPTION:18:00 Uhr vorführung von Kindergarten und Schule \nanschließend Martinsumzug begleitet mit Ross und Reiter\, Musikverein und Feuerwehr \nMartinsfeuer auf der Festwiese
URL:https://www.konken.eu/event/st-martinsfeier-an-der-grundschule/
LOCATION:Schule und Festwiese
ATTACH;FMTTYPE=image/jpeg:https://www.konken.eu/wp-content/uploads/2025/10/IMG_4103.jpg
END:VEVENT
BEGIN:VEVENT
DTSTART;TZID=Europe/Berlin:20251118T160000
DTEND;TZID=Europe/Berlin:20251118T203000
DTSTAMP:20260424T044311
CREATED:20251106T174306Z
LAST-MODIFIED:20251107T174152Z
UID:1639-1763481600-1763497800@www.konken.eu
SUMMARY:Konker Ü 60 geht digital (6. Teil)
DESCRIPTION:Leiter des Workshops: \nDigitalbotschafter Peter Theiß \n\nThemen des Workshops: \n– Einkaufen im Netz \n– Abzockmaschen und Käuferschutz \n1. Gruppe von 16:00 – 17:30 Uhr \n\n\n\n2. Gruppe von 17:30 – 19:00 Uhr \n3. Gruppe von 19:00 – 20:30 Uhr \n\n \nDie Gemeinde bedankt sich bei Digitalbotschfter Peter Theiß für die Durchführung der Workshops! \nVielen lieben Dank \n\n 
URL:https://www.konken.eu/event/konker-ue-60-geht-digital-6-teil/
LOCATION:Haus der Kulinarischen Landstraße\, Hauptstraße 42\, Konken\, 66871\, Deutschland
END:VEVENT
BEGIN:VEVENT
DTSTART;TZID=Europe/Berlin:20251119T190000
DTEND;TZID=Europe/Berlin:20251119T220000
DTSTAMP:20260424T044311
CREATED:20251017T084723Z
LAST-MODIFIED:20251017T084723Z
UID:1603-1763578800-1763589600@www.konken.eu
SUMMARY:Auftaktveranstaltung Sommermarkt 2026
DESCRIPTION:Sommermarkt 2026 – Mitmachen und Mitgestalten \nDie Ortsgemeinde lädt alle Vereinsvertreter sowie alle Bürgerinnen und Bürger herzlich ein\, die sich bei der Planung und Organisation des Sommermarktes 2026 einbringen möchten. \nZiel des Treffens ist es\, eine Planungsgruppe zu bilden und erste Ideen für die Ausgestaltung des Sommermarktes anlässlich des 700-jährigen Jubiläums der Ersterwähnung zu sammeln. \nWir freuen uns auf eine engagierte Beteiligung und einen konstruktiven Austausch. \nWer an dem Termin nicht teilnehmen kann\, sich aber dennoch beteiligen möchte\, kann sich selbstverständlich vorab bei der Ortsgemeinde oder über die Vereine melden.
URL:https://www.konken.eu/event/auftaktveranstaltung-sommermarkt-2026/
LOCATION:Haus der Kulinarischen Landstraße\, Hauptstraße 42\, Konken\, 66871\, Deutschland
CATEGORIES:Sitzungen
END:VEVENT
BEGIN:VEVENT
DTSTART;TZID=Europe/Berlin:20251129T140000
DTEND;TZID=Europe/Berlin:20251129T230000
DTSTAMP:20260424T044311
CREATED:20251015T061937Z
LAST-MODIFIED:20251015T061937Z
UID:1585-1764424800-1764457200@www.konken.eu
SUMMARY:Fahrt auf den Weihnachtsmarkt Heidelberg
DESCRIPTION:
URL:https://www.konken.eu/event/fahrt-auf-den-weihnachtsmarkt-heidelberg/
LOCATION:Sparkasse / Steinmann\, Hauptstraße 25\, Konken\, Rheinland-Pfalz\, 66871\, Germany
ATTACH;FMTTYPE=image/png:https://www.konken.eu/wp-content/uploads/2025/10/Flyer-Dorfverein-Fahrt-Heidelberg-2025-2.png
END:VEVENT
BEGIN:VEVENT
DTSTART;TZID=Europe/Berlin:20251129T180000
DTEND;TZID=Europe/Berlin:20251129T180000
DTSTAMP:20260424T044311
CREATED:20251017T174509Z
LAST-MODIFIED:20251017T180352Z
UID:1611-1764439200-1764439200@www.konken.eu
SUMMARY:Das Jugendorchester des Musikvereins läutet den Advent ein!
DESCRIPTION:Am 29. November läutet das Jugendorchester des Musikvereins Konken den Advent ein!\nBeginn des Konzertes in der Kirche St. Veit in Konken ist 18:00 Uhr.\n\n 
URL:https://www.konken.eu/event/jugendorchester-des-musikvereins-laeutet-den-advent-ein/
LOCATION:Kirche St. Veith\, Konken
END:VEVENT
BEGIN:VEVENT
DTSTART;TZID=Europe/Berlin:20251130T113000
DTEND;TZID=Europe/Berlin:20251130T113000
DTSTAMP:20260424T044311
CREATED:20250408T191552Z
LAST-MODIFIED:20250408T191555Z
UID:1297-1764502200-1764502200@www.konken.eu
SUMMARY:Jahresabschluss VDK-Ortsverein (Interne Veranstaltung)
DESCRIPTION:
URL:https://www.konken.eu/event/jahresabschluss-vdk-ortsverein-interne-veranstaltung/
LOCATION:Gasthaus „Zum Hirschen“ – Herschweiler-Pettrsheim
END:VEVENT
END:VCALENDAR