BEGIN:VCALENDAR
VERSION:2.0
PRODID:-//Ortsgemeinde Konken - ECPv6.15.11//NONSGML v1.0//EN
CALSCALE:GREGORIAN
METHOD:PUBLISH
X-WR-CALNAME:Ortsgemeinde Konken
X-ORIGINAL-URL:https://www.konken.eu
X-WR-CALDESC:Veranstaltungen für Ortsgemeinde Konken
REFRESH-INTERVAL;VALUE=DURATION:PT1H
X-Robots-Tag:noindex
X-PUBLISHED-TTL:PT1H
BEGIN:VTIMEZONE
TZID:Europe/Berlin
BEGIN:DAYLIGHT
TZOFFSETFROM:+0100
TZOFFSETTO:+0200
TZNAME:CEST
DTSTART:20240331T010000
END:DAYLIGHT
BEGIN:STANDARD
TZOFFSETFROM:+0200
TZOFFSETTO:+0100
TZNAME:CET
DTSTART:20241027T010000
END:STANDARD
BEGIN:DAYLIGHT
TZOFFSETFROM:+0100
TZOFFSETTO:+0200
TZNAME:CEST
DTSTART:20250330T010000
END:DAYLIGHT
BEGIN:STANDARD
TZOFFSETFROM:+0200
TZOFFSETTO:+0100
TZNAME:CET
DTSTART:20251026T010000
END:STANDARD
BEGIN:DAYLIGHT
TZOFFSETFROM:+0100
TZOFFSETTO:+0200
TZNAME:CEST
DTSTART:20260329T010000
END:DAYLIGHT
BEGIN:STANDARD
TZOFFSETFROM:+0200
TZOFFSETTO:+0100
TZNAME:CET
DTSTART:20261025T010000
END:STANDARD
END:VTIMEZONE
BEGIN:VEVENT
DTSTART;TZID=Europe/Berlin:20250801T180000
DTEND;TZID=Europe/Berlin:20250801T200000
DTSTAMP:20260424T090143
CREATED:20250801T202013Z
LAST-MODIFIED:20250801T202013Z
UID:1469-1754071200-1754078400@www.konken.eu
SUMMARY:Sitzung Lenkungsausschuss & Standverantwortliche Bauernmarkt 2025
DESCRIPTION:Der Lenkungsausschuss tagt in öffentlicher Sitzung
URL:https://www.konken.eu/event/sitzung-lenkungsausschuss-standverantwortliche-bauernmarkt-2025/
LOCATION:Haus der Kulinarischen Landstraße\, Hauptstraße 42\, Konken\, 66871\, Deutschland
END:VEVENT
BEGIN:VEVENT
DTSTART;TZID=Europe/Berlin:20250830T200000
DTEND;TZID=Europe/Berlin:20250830T200000
DTSTAMP:20260424T090143
CREATED:20250801T133102Z
LAST-MODIFIED:20250804T073906Z
UID:1456-1756584000-1756584000@www.konken.eu
SUMMARY:Konker Kerb!
DESCRIPTION:Kerb in Konken! \nProgramm wird noch bekannt gegeben!
URL:https://www.konken.eu/event/konker-kerb-3/
LOCATION:Festwiese neben der Turn- und Festhalle Konken\, Hochstraße 11\, Konken\, 66871
END:VEVENT
BEGIN:VEVENT
DTSTART;TZID=Europe/Berlin:20250805T160000
DTEND;TZID=Europe/Berlin:20250805T203000
DTSTAMP:20260424T090143
CREATED:20250801T124602Z
LAST-MODIFIED:20250801T141723Z
UID:1443-1754409600-1754425800@www.konken.eu
SUMMARY:Konker Ü 60 geht digital (4. Teil)
DESCRIPTION:Konker Ü 60 geht digital (4. Teil)\nLeiter des Workshops: \nDigitalbotschafter Peter Theiß \n\nThemen des Workshops: \n– Google Fotos \n– Fotos Galerie \n\n\n\n1. Gruppe von 16:00 – 17:30 Uhr \n2. Gruppe von 17:30 – 19:00 Uhr \n3. Gruppe von 19:00 – 20:30 Uhr \n\n\nDie Gemeinde bedankt sich bei Digital-Botschafter Peter Theiß für das Durchführen der Workshops
URL:https://www.konken.eu/event/konker-ue-60-geht-digital-4-teil/
LOCATION:Haus der Kulinarischen Landstraße\, Hauptstraße 42\, Konken\, 66871\, Deutschland
END:VEVENT
BEGIN:VEVENT
DTSTART;TZID=Europe/Berlin:20250812T190000
DTEND;TZID=Europe/Berlin:20250812T190000
DTSTAMP:20260424T090143
CREATED:20250809T124042Z
LAST-MODIFIED:20250809T124133Z
UID:1487-1755025200-1755025200@www.konken.eu
SUMMARY:Sitzung Lenkungsausschuss Bauernmarkt 2025
DESCRIPTION:Tagesordnung \nöffentlicher Teil: \n1. Beratung und Beschlussfassung über einen weiteren Getränkestand \n2. Beratung und Beschlussfassung über einen weiteren Essenstand \n3. Aktueller Sachstand: \n3.1 Werbemaßnahmen \n3.2 Dienste \n3.3 Kuchenverkauf \n4. Beratung und Beschlussfassung über die Anfrage des Waldbauvereins bzgl. eines Getränkeverkaufs \n5. Informationen/Verschiedenes
URL:https://www.konken.eu/event/sitzung-lenkungsausschuss-bauernmarkt-2025-4/
LOCATION:Haus der Kulinarischen Landstraße\, Hauptstraße 42\, Konken\, 66871\, Deutschland
END:VEVENT
BEGIN:VEVENT
DTSTART;TZID=Europe/Berlin:20250822T180000
DTEND;TZID=Europe/Berlin:20250822T180000
DTSTAMP:20260424T090143
CREATED:20250801T132259Z
LAST-MODIFIED:20250804T080218Z
UID:1451-1755885600-1755885600@www.konken.eu
SUMMARY:Einwohnerversammlung in der Turn- und Festhalle Konken
DESCRIPTION:Die Gemeinde lädt alle Bürgerinnen und Bürger zur Einwohnerversammlung in die Turn- und Festhalle ein. \nThema:\nInformationen zum Europäischen Bauernmarkt 2025 \nWeitere Themen können im Anschluss gerne offen angesprochen werden. \nDie Gemeinde und der Lenkungsausschuss des Bauernmarktes freuen sich auf zahlreiche Teilhnahme. \nFlyer Einwohnerversammlung 22.08.2025
URL:https://www.konken.eu/event/einwohnerversammlung-in-der-turn-und-festhalle-konken/
LOCATION:Turn- und Festhalle Konken\, Hochstraße 11\, Deutschland\, 66871\, Deutschland
END:VEVENT
BEGIN:VEVENT
DTSTART;TZID=Europe/Berlin:20250826T190000
DTEND;TZID=Europe/Berlin:20250826T190000
DTSTAMP:20260424T090143
CREATED:20250818T085945Z
LAST-MODIFIED:20250818T085947Z
UID:1500-1756234800-1756234800@www.konken.eu
SUMMARY:Sitzung des Lenkungsausschusses zum Bauernmarkt 2025
DESCRIPTION:Am Dienstag\, 26.08.2025 um 19:00 Uhr\, findet im Haus der Kulinarischen Landstraße Konken\, die nächste Sitzung des Lenkungsausschusses der Ortsgemeinde Konken statt. \nTagesordnung\nÖffentlicher Teil\n\n1.    Aktueller Stand der Helferlisten\n\n2.    Informationen zum Bauernmarkt \nKonken\, 18.08.2025\ngez. Christian Gießler\n(Ortsbürgermeister)
URL:https://www.konken.eu/event/sitzung-des-lenkungsausschusses-zum-bauernmarkt-2025/
LOCATION:Haus der Kulinarischen Landstraße\, Hauptstraße 42\, Konken\, 66871\, Deutschland
END:VEVENT
BEGIN:VEVENT
DTSTART;TZID=Europe/Berlin:20250829T200000
DTEND;TZID=Europe/Berlin:20250829T200000
DTSTAMP:20260424T090143
CREATED:20250801T132909Z
LAST-MODIFIED:20250816T122500Z
UID:1453-1756497600-1756497600@www.konken.eu
SUMMARY:Konker Kerb!
DESCRIPTION:Kerb in Konken!
URL:https://www.konken.eu/event/konker-kerb-2/
LOCATION:Festwiese neben der Turn- und Festhalle Konken\, Hochstraße 11\, Konken\, 66871
END:VEVENT
BEGIN:VEVENT
DTSTART;TZID=Europe/Berlin:20250830T140000
DTEND;TZID=Europe/Berlin:20250830T140000
DTSTAMP:20260424T090143
CREATED:20250809T124426Z
LAST-MODIFIED:20250816T135244Z
UID:1490-1756562400-1756562400@www.konken.eu
SUMMARY:Konker Kerb!
DESCRIPTION:
URL:https://www.konken.eu/event/konker-kerb-6/
LOCATION:Festwiese neben der Turn- und Festhalle Konken\, Hochstraße 11\, Konken\, 66871
END:VEVENT
BEGIN:VEVENT
DTSTART;TZID=Europe/Berlin:20250831T140000
DTEND;TZID=Europe/Berlin:20250831T140000
DTSTAMP:20260424T090143
CREATED:20250801T133402Z
LAST-MODIFIED:20250816T135339Z
UID:1458-1756648800-1756648800@www.konken.eu
SUMMARY:Konker Kerb!
DESCRIPTION:
URL:https://www.konken.eu/event/konker-kerb-4/
LOCATION:Festwiese neben der Turn- und Festhalle Konken\, Hochstraße 11\, Konken\, 66871
END:VEVENT
END:VCALENDAR