BEGIN:VCALENDAR
VERSION:2.0
PRODID:-//Ortsgemeinde Konken - ECPv6.15.11//NONSGML v1.0//EN
CALSCALE:GREGORIAN
METHOD:PUBLISH
X-WR-CALNAME:Ortsgemeinde Konken
X-ORIGINAL-URL:https://www.konken.eu
X-WR-CALDESC:Veranstaltungen für Ortsgemeinde Konken
REFRESH-INTERVAL;VALUE=DURATION:PT1H
X-Robots-Tag:noindex
X-PUBLISHED-TTL:PT1H
BEGIN:VTIMEZONE
TZID:Europe/Berlin
BEGIN:DAYLIGHT
TZOFFSETFROM:+0100
TZOFFSETTO:+0200
TZNAME:CEST
DTSTART:20240331T010000
END:DAYLIGHT
BEGIN:STANDARD
TZOFFSETFROM:+0200
TZOFFSETTO:+0100
TZNAME:CET
DTSTART:20241027T010000
END:STANDARD
BEGIN:DAYLIGHT
TZOFFSETFROM:+0100
TZOFFSETTO:+0200
TZNAME:CEST
DTSTART:20250330T010000
END:DAYLIGHT
BEGIN:STANDARD
TZOFFSETFROM:+0200
TZOFFSETTO:+0100
TZNAME:CET
DTSTART:20251026T010000
END:STANDARD
BEGIN:DAYLIGHT
TZOFFSETFROM:+0100
TZOFFSETTO:+0200
TZNAME:CEST
DTSTART:20260329T010000
END:DAYLIGHT
BEGIN:STANDARD
TZOFFSETFROM:+0200
TZOFFSETTO:+0100
TZNAME:CET
DTSTART:20261025T010000
END:STANDARD
END:VTIMEZONE
BEGIN:VEVENT
DTSTART;TZID=Europe/Berlin:20250205T190000
DTEND;TZID=Europe/Berlin:20250205T190000
DTSTAMP:20260424T182457
CREATED:20250118T080208Z
LAST-MODIFIED:20250203T203441Z
UID:1196-1738782000-1738782000@www.konken.eu
SUMMARY:Sitzung des Ortsgemeinderates
DESCRIPTION:Öffentlicher Teil\n\n1.    Einwohnerfragestunde\nNach § 21 Abs. 3 der Geschäftsordnung für den Ortsgemeinderat Konken sollen dem Ortsbürgermeister nach Möglichkeit die Fragen 3 Arbeitstage vor der Sitzung schriftlich zugeleitet werden. \n2.    Bauernmarkt; hier: Beratung und Beschlussfassung über die Gewinnverteilung \n3.    Vollzug der Gemeindeordnung (§ 94 Abs. 3 GemO); hier: Zustimmung zur Annahme einer Spende \n\n4.    Anstrich der Fenster am „Alten Schulhaus“ in der Hauptstraße 32; hier: Auftragsvergabe \n5.    Informationen/Verschiedenes \nNichtöffentlicher Teil\n\n6.    Vertragsanglegenheiten \n7.    Informationen/Verschiedenes
URL:https://www.konken.eu/event/sitzung-des-ortsgemeinderates-4/
LOCATION:Haus der Kulinarischen Landstraße\, Hauptstraße 42\, Konken\, 66871\, Deutschland
ORGANIZER;CN="Ortsgemeinde Konken und Ortsvereine":MAILTO:og-konken@vgka.de
END:VEVENT
BEGIN:VEVENT
DTSTART;TZID=Europe/Berlin:20250206T180000
DTEND;TZID=Europe/Berlin:20250206T180000
DTSTAMP:20260424T182457
CREATED:20250112T173103Z
LAST-MODIFIED:20250112T173220Z
UID:1181-1738864800-1738864800@www.konken.eu
SUMMARY:Workshop mit Digitalbotschafter Peter Theiß: Umgang mit Internet\, Smartphone und Co. im Alter (Ü 60) lernen!
DESCRIPTION:Smartphone und Tablet für die Generation Silber!\nSie haben sich für den Umgang mit Smartphone\, Tablet oder PC entschieden und wissen nicht\,\nwas man alles damit machen kann? \nDann sind Sie bei uns\, den „Digitalbotschaftern Rheinland-Pfalz“ genau richtig. \nWir zeigen Ihnen spielerisch den Umgang mit der digitalen Welt. Bei uns können Sie sich mit\nGleichgesinnten austauschen und merken schnell\, dass Sie mit Ihren Problemen und Unsicher-\nheiten nicht alleine sind. Wir helfen auch bei individuellen Fragestellungen. \nIm Mittelpunkt steht der gemeinsame Austausch über Erfahrungen mit den Geräten\, das Lernen in\nder Gruppe sowie die gegenseitige Hilfestellung. \n– Vorstellung des Projekts „Digitalbotschafter Rheinland-Pfalz“\n– Tipps und Tricks beim Umgang mit dem Smartphone\n– Nützliche Apps für Senioren\n– Fragen und Wünsche\n– Ausblick\, wie machen wir weiter \nDie Ortsgemeinde Konken und der Digitalbotschafter Peter Theiß laden alle Interessierten ab 60\nJahre herzlich ein. Das erste Treffen findet am Donnerstag\,  6. Februar 2025\, um 18:00 Uhr\nim Haus der Kulinarischen Landstraße in Konken statt. \nAnmeldungen bis 03.02.2025 bei Jörg Neukirch\, Tel. 0171-7275909 oder per Mail an\nkulihaus-konken@web.d
URL:https://www.konken.eu/event/workshop-mit-digitalbotschafter-peter-theiss-umgang-mit-internet-smartphone-und-co-im-alter-lernen/
LOCATION:Haus der Kulinarischen Landstraße\, Hauptstraße 42\, Konken\, 66871\, Deutschland
ORGANIZER;CN="Ortsgemeinde Konken und Ortsvereine":MAILTO:og-konken@vgka.de
END:VEVENT
BEGIN:VEVENT
DTSTART;TZID=Europe/Berlin:20250212T143000
DTEND;TZID=Europe/Berlin:20250212T143000
DTSTAMP:20260424T182457
CREATED:20250118T081013Z
LAST-MODIFIED:20250118T081017Z
UID:1200-1739370600-1739370600@www.konken.eu
SUMMARY:„Kaffeekränzje“ im Jugend- und Gemeindehaus
DESCRIPTION:Die Kirchengemeinde lädt zum „Kaffeekränzje“ ins Jugen- und Gemeindehaus. \nEin geselliges Beisammensein mit Kaffee\, Kuchen\, interessanten Gesprächen\, Musik und Unterhaltung. \nNähere Informationen erteilt die Kirchengemeinde \n(Immer am 2. Mittwoch im Monat – Termine werden hier veröffentlicht)
URL:https://www.konken.eu/event/kaffeekraenzje-im-jugend-und-gemeindehaus-2/
LOCATION:Jugend- und Gemeindehaus\, Hauptstraße 22\, Konken\, Rheinland-Pflaz\, 66871\, Deutschland
END:VEVENT
BEGIN:VEVENT
DTSTART;TZID=Europe/Berlin:20250218T190000
DTEND;TZID=Europe/Berlin:20250218T210000
DTSTAMP:20260424T182457
CREATED:20250214T133040Z
LAST-MODIFIED:20250214T134320Z
UID:1230-1739905200-1739912400@www.konken.eu
SUMMARY:Sitzung Lenkungsausschuss Bauernmarkt 2025
DESCRIPTION:Der Lenkungsausschuss Bauernmarkt tagt in öffentlicher Sitzung
URL:https://www.konken.eu/event/sitzung-lenkungsausschuss-bauernmarkt-2025/
CATEGORIES:Sitzungen
END:VEVENT
BEGIN:VEVENT
DTSTART;TZID=Europe/Berlin:20250223T100000
DTEND;TZID=Europe/Berlin:20250223T160000
DTSTAMP:20260424T182457
CREATED:20250209T182253Z
LAST-MODIFIED:20250215T192107Z
UID:1226-1740304800-1740326400@www.konken.eu
SUMMARY:Wahl-Café im Wahllokal
DESCRIPTION:Am 23. Februar 2025 bieten die Landfrauen im“ Wahllokal-Café“ in der Turnhalle ab 10:00 Uhr Kaffee\, Kuchen und belegte Stangen an. \nNehmen Sie sich die Zeit im Anschluss an Ihre Stimmabgabe\, um im Wahlcafé bei Kaffee und Kuchen mit den Mitbürgern ins Gespräch zu kommen. \nIdeen für den am 13. März 2025 stattfindenden Bürgerstammtisch sind willkommen und lassen sich am besten in der Gemeinschaft entwickeln.
URL:https://www.konken.eu/event/wahl-cafe-im-wahllokal/
LOCATION:Turn- und Festhalle Konken\, Hochstraße 11\, Deutschland\, 66871\, Deutschland
ORGANIZER;CN="Ortsgemeinde Konken und Ortsvereine":MAILTO:og-konken@vgka.de
END:VEVENT
END:VCALENDAR