BEGIN:VCALENDAR
VERSION:2.0
PRODID:-//Ortsgemeinde Konken - ECPv6.15.11//NONSGML v1.0//EN
CALSCALE:GREGORIAN
METHOD:PUBLISH
X-WR-CALNAME:Ortsgemeinde Konken
X-ORIGINAL-URL:https://www.konken.eu
X-WR-CALDESC:Veranstaltungen für Ortsgemeinde Konken
REFRESH-INTERVAL;VALUE=DURATION:PT1H
X-Robots-Tag:noindex
X-PUBLISHED-TTL:PT1H
BEGIN:VTIMEZONE
TZID:Europe/Berlin
BEGIN:DAYLIGHT
TZOFFSETFROM:+0100
TZOFFSETTO:+0200
TZNAME:CEST
DTSTART:20230326T010000
END:DAYLIGHT
BEGIN:STANDARD
TZOFFSETFROM:+0200
TZOFFSETTO:+0100
TZNAME:CET
DTSTART:20231029T010000
END:STANDARD
BEGIN:DAYLIGHT
TZOFFSETFROM:+0100
TZOFFSETTO:+0200
TZNAME:CEST
DTSTART:20240331T010000
END:DAYLIGHT
BEGIN:STANDARD
TZOFFSETFROM:+0200
TZOFFSETTO:+0100
TZNAME:CET
DTSTART:20241027T010000
END:STANDARD
BEGIN:DAYLIGHT
TZOFFSETFROM:+0100
TZOFFSETTO:+0200
TZNAME:CEST
DTSTART:20250330T010000
END:DAYLIGHT
BEGIN:STANDARD
TZOFFSETFROM:+0200
TZOFFSETTO:+0100
TZNAME:CET
DTSTART:20251026T010000
END:STANDARD
END:VTIMEZONE
BEGIN:VEVENT
DTSTART;TZID=Europe/Berlin:20241204T190000
DTEND;TZID=Europe/Berlin:20241204T190000
DTSTAMP:20260424T210954
CREATED:20241127T113747Z
LAST-MODIFIED:20241127T113747Z
UID:1116-1733338800-1733338800@www.konken.eu
SUMMARY:Sitzung des Ortsgemeinderates
DESCRIPTION:Am Mittwoch\, 04.12.2024 um 19:00 Uhr\, findet im Haus der Kulinarischen Landstraße Konken\, die nächste Sitzung des Ortsgemeinderates der Ortsgemeinde Konken statt. \n\n\n\nBeachten Sie bitte die öffentliche Bekanntmachung: \nBekanntmachung Aushang – Ortsgemeinderat_Konken_20241204_Oeffentliche_Bekanntmachung
URL:https://www.konken.eu/event/sitzung-des-ortsgemeinderates-3/
LOCATION:Haus der Kulinarischen Landstraße\, Hauptstraße 42\, Konken\, 66871\, Deutschland
CATEGORIES:Sitzungen
ORGANIZER;CN="Ortsgemeinde Konken und Ortsvereine":MAILTO:og-konken@vgka.de
END:VEVENT
BEGIN:VEVENT
DTSTART;TZID=Europe/Berlin:20241206T180000
DTEND;TZID=Europe/Berlin:20241206T180000
DTSTAMP:20260424T210954
CREATED:20241026T072532Z
LAST-MODIFIED:20241026T072615Z
UID:1048-1733508000-1733508000@www.konken.eu
SUMMARY:Nikolaus
DESCRIPTION:Die Landfrauen laden alle herzlich zur Nikolausfeier ein.
URL:https://www.konken.eu/event/nikolaus/
LOCATION:Jugend- und Gemeindehaus\, Hauptstraße 22\, Konken\, Rheinland-Pflaz\, 66871\, Deutschland
END:VEVENT
BEGIN:VEVENT
DTSTART;TZID=Europe/Berlin:20241207T170000
DTEND;TZID=Europe/Berlin:20241207T170000
DTSTAMP:20260424T210954
CREATED:20241201T173650Z
LAST-MODIFIED:20241201T173741Z
UID:1126-1733590800-1733590800@www.konken.eu
SUMMARY:Adventsmusik in der Kirche St. Veith\, Konken
DESCRIPTION:Am Samstag\, 07.12.2024\, gibt es eine kleine Adventsmusik in der Kirche St\, Veith in Konken. \nMitwirkende sind das Jugendorchester des Musikvereins „Westricher Musikanten“ Konken \nund Pfarrerin Ulla Steinmann. \n 
URL:https://www.konken.eu/event/adventsmusik-in-der-kirche-st-veith/
LOCATION:Kirche St. Veith\, Konken
END:VEVENT
BEGIN:VEVENT
DTSTART;TZID=Europe/Berlin:20241208T140000
DTEND;TZID=Europe/Berlin:20241208T140000
DTSTAMP:20260424T210954
CREATED:20241026T072808Z
LAST-MODIFIED:20241026T072808Z
UID:1051-1733666400-1733666400@www.konken.eu
SUMMARY:Seniorenfeier
DESCRIPTION:Die Ortsgemeinde lädt zur Seniorenfeier ein
URL:https://www.konken.eu/event/seniorenfeier/
LOCATION:Haus der Kulinarischen Landstraße\, Hauptstraße 42\, Konken\, 66871\, Deutschland
END:VEVENT
BEGIN:VEVENT
DTSTART;TZID=Europe/Berlin:20241211T143000
DTEND;TZID=Europe/Berlin:20241211T143000
DTSTAMP:20260424T210954
CREATED:20241201T180924Z
LAST-MODIFIED:20241201T180924Z
UID:1136-1733927400-1733927400@www.konken.eu
SUMMARY:"Kaffeekränzje" im Jugend- und Gemeindehaus
DESCRIPTION:Die Kirchengemeinde lädt zum „Kaffeekränzje“ ins Jugen- und Gemeindehaus. \nEin geselliges Beisammensein mit Kaffee\, Kuchen\, interessanten Gesprächen\, Musik und Unterhaltung. \nNähere Informationen erteilt die Kirchengemeinde \n(Immer am 2. Mittwoch im Monat – Termine werden hier veröffentlicht)
URL:https://www.konken.eu/event/kaffeekraenzje-im-jugend-und-gemeindehaus/
LOCATION:Jugend- und Gemeindehaus\, Hauptstraße 22\, Konken\, Rheinland-Pflaz\, 66871\, Deutschland
END:VEVENT
BEGIN:VEVENT
DTSTART;TZID=Europe/Berlin:20241213T180000
DTEND;TZID=Europe/Berlin:20241213T180000
DTSTAMP:20260424T210954
CREATED:20241201T174722Z
LAST-MODIFIED:20241201T174722Z
UID:1134-1734112800-1734112800@www.konken.eu
SUMMARY:"Round Christmas" - Ein Konzert rund um Weihnachten
DESCRIPTION:Lieder rund um Weihnachten und Winter aus Pop\, Schlager\, Country\, Folk\, Musical\, Klassik \nMitwirkende: \nMaria Hemm (früher San Salvador) \nNorbert Müller (früher San Salvador) \nMichael Weickenmeier \nTomas Geib \nEintritt frei – Spenden werden erbeten
URL:https://www.konken.eu/event/round-christmas-ein-konzert-rund-um-weihnachten/
LOCATION:Kirche St. Veith\, Konken
END:VEVENT
BEGIN:VEVENT
DTSTART;TZID=Europe/Berlin:20241224T103000
DTEND;TZID=Europe/Berlin:20241224T180000
DTSTAMP:20260424T210954
CREATED:20241201T182603Z
LAST-MODIFIED:20241220T120355Z
UID:1138-1735036200-1735063200@www.konken.eu
SUMMARY:Die Weihnachtsmusikanten ziehen durchs "gelobte Land" Konken
DESCRIPTION:Ab 10:30 Uhr ziehen die Weihnachtsmusikanten  an Heilig Abend durch das „gelobte Land“ Konken. \nZum Einstimmen auf die Festtage  werden Weihnachtslieder von den Musikanten dargeboten. \n 
URL:https://www.konken.eu/event/die-weihnachtsmusikanten-ziehen-durchs-gelobte-land-konken/
LOCATION:„Gelobtes Land“ Konken
END:VEVENT
BEGIN:VEVENT
DTSTART;TZID=Europe/Berlin:20241227T110000
DTEND;TZID=Europe/Berlin:20241227T110000
DTSTAMP:20260424T210954
CREATED:20241018T200508Z
LAST-MODIFIED:20241018T200556Z
UID:1031-1735297200-1735297200@www.konken.eu
SUMMARY:Glühweinparty im Sportheim
DESCRIPTION:
URL:https://www.konken.eu/event/gluehweinparty-im-sportheim/
LOCATION:Sportheim SV Konken „Im Unterwald“
END:VEVENT
END:VCALENDAR