BEGIN:VCALENDAR
VERSION:2.0
PRODID:-//Ortsgemeinde Konken - ECPv6.15.11//NONSGML v1.0//EN
CALSCALE:GREGORIAN
METHOD:PUBLISH
X-WR-CALNAME:Ortsgemeinde Konken
X-ORIGINAL-URL:https://www.konken.eu
X-WR-CALDESC:Veranstaltungen für Ortsgemeinde Konken
REFRESH-INTERVAL;VALUE=DURATION:PT1H
X-Robots-Tag:noindex
X-PUBLISHED-TTL:PT1H
BEGIN:VTIMEZONE
TZID:Europe/Berlin
BEGIN:DAYLIGHT
TZOFFSETFROM:+0100
TZOFFSETTO:+0200
TZNAME:CEST
DTSTART:20230326T010000
END:DAYLIGHT
BEGIN:STANDARD
TZOFFSETFROM:+0200
TZOFFSETTO:+0100
TZNAME:CET
DTSTART:20231029T010000
END:STANDARD
BEGIN:DAYLIGHT
TZOFFSETFROM:+0100
TZOFFSETTO:+0200
TZNAME:CEST
DTSTART:20240331T010000
END:DAYLIGHT
BEGIN:STANDARD
TZOFFSETFROM:+0200
TZOFFSETTO:+0100
TZNAME:CET
DTSTART:20241027T010000
END:STANDARD
BEGIN:DAYLIGHT
TZOFFSETFROM:+0100
TZOFFSETTO:+0200
TZNAME:CEST
DTSTART:20250330T010000
END:DAYLIGHT
BEGIN:STANDARD
TZOFFSETFROM:+0200
TZOFFSETTO:+0100
TZNAME:CET
DTSTART:20251026T010000
END:STANDARD
END:VTIMEZONE
BEGIN:VEVENT
DTSTART;TZID=Europe/Berlin:20241101T113000
DTEND;TZID=Europe/Berlin:20241101T113000
DTSTAMP:20260424T223626
CREATED:20241018T183919Z
LAST-MODIFIED:20241018T190019Z
UID:1019-1730460600-1730460600@www.konken.eu
SUMMARY:"Gefillde essen" im Sportheim
DESCRIPTION:
URL:https://www.konken.eu/event/gefillde-essen-im-sportheim/
LOCATION:Sportheim SV Konken „Im Unterwald“
END:VEVENT
BEGIN:VEVENT
DTSTART;TZID=Europe/Berlin:20241106T190000
DTEND;TZID=Europe/Berlin:20241106T190000
DTSTAMP:20260424T223626
CREATED:20241026T082740Z
LAST-MODIFIED:20241026T082840Z
UID:1066-1730919600-1730919600@www.konken.eu
SUMMARY:Sitzung des Ortsgemeinderates
DESCRIPTION:Am Mittwoch\, 06.11.2024 um 19:00 Uhr\, findet im Haus der Kulinarischen Landstraße\nKonken\, die nächste Sitzung des Ortsgemeinderates der Ortsgemeinde Konken statt. \nBeachten Sie bitte die öffentliche Bekanntmachung: \nOrtsgemeinderat_Konken_20241106_Oeffentliche_Bekanntmachung
URL:https://www.konken.eu/event/sitzung-des-ortsgemeinderates-2/
LOCATION:Haus der Kulinarischen Landstraße\, Hauptstraße 42\, Konken\, 66871\, Deutschland
CATEGORIES:Sitzungen
ORGANIZER;CN="Ortsgemeinde Konken und Ortsvereine":MAILTO:og-konken@vgka.de
END:VEVENT
BEGIN:VEVENT
DTSTART;TZID=Europe/Berlin:20241116T190000
DTEND;TZID=Europe/Berlin:20241116T190000
DTSTAMP:20260424T223626
CREATED:20240812T184540Z
LAST-MODIFIED:20241003T161119Z
UID:878-1731783600-1731783600@www.konken.eu
SUMMARY:Benefizkonzert „Men in Blue“
DESCRIPTION:  \n\n\n\n\nBenefizkonzert des Polizeiorchesters „Men in Blue“\nZum Abschluss der Veranstaltungsreihe anlässlich des 900 jährigen Jubiläums der Ortsgemeinde Konken findet am 16.11.2024 ein Benefizkonzert der Brass Band des Landespolizeiorchester Rheinland-Pfalz „Men in Blue“ statt. \nTickets gibt es unter www.tickettune.com/mvk \nWir freuen uns auf Euer kommen!
URL:https://www.konken.eu/event/benefizkonzert-men-in-blue/
LOCATION:Turn- und Festhalle Konken\, Hochstraße 11\, Deutschland\, 66871\, Deutschland
ORGANIZER;CN="Ortsgemeinde Konken und Ortsvereine":MAILTO:og-konken@vgka.de
END:VEVENT
BEGIN:VEVENT
DTSTART;TZID=Europe/Berlin:20241117T110000
DTEND;TZID=Europe/Berlin:20241117T110000
DTSTAMP:20260424T223626
CREATED:20241026T070819Z
LAST-MODIFIED:20241026T071004Z
UID:1040-1731841200-1731841200@www.konken.eu
SUMMARY:Volkstrauertag
DESCRIPTION:Einladung zum Volkstrauertag \n  \nLiebe Bürgerinnen und Bürger\, \nwir laden Euch herzlich ein\, am Volkstrauertag\, dem 17. November 2024\, um 11:00 Uhr auf dem Friedhof gemeinsam der verstorbenen Ehrenbürger und aller Gefallenen zu gedenken. \nEure Teilnahme ist eine wichtige Möglichkeit\, um zusammenzukommen und Respekt zu zeigen. \nWir freuen uns auf Euer Kommen. \n 
URL:https://www.konken.eu/event/volkstrauertag/
LOCATION:Friedhof Konken\, Friedhofstraße\, Konken\, Rheinland-Pflaz\, 66871\, Deutschland
ORGANIZER;CN="Ortsgemeinde Konken und Ortsvereine":MAILTO:og-konken@vgka.de
END:VEVENT
BEGIN:VEVENT
DTSTART;TZID=Europe/Berlin:20241130T000000
DTEND;TZID=Europe/Berlin:20241130T000000
DTSTAMP:20260424T223626
CREATED:20241026T071603Z
LAST-MODIFIED:20241026T071905Z
UID:1044-1732924800-1732924800@www.konken.eu
SUMMARY:Interne Veranstaltung - Dorfverein
DESCRIPTION:
URL:https://www.konken.eu/event/interne-veranstaltung-dorfverein/
LOCATION:Haus der Kulinarischen Landstraße\, Hauptstraße 42\, Konken\, 66871\, Deutschland
END:VEVENT
END:VCALENDAR