BEGIN:VCALENDAR
VERSION:2.0
PRODID:-//Ortsgemeinde Konken - ECPv6.15.11//NONSGML v1.0//EN
CALSCALE:GREGORIAN
METHOD:PUBLISH
X-ORIGINAL-URL:https://www.konken.eu
X-WR-CALDESC:Veranstaltungen für Ortsgemeinde Konken
REFRESH-INTERVAL;VALUE=DURATION:PT1H
X-Robots-Tag:noindex
X-PUBLISHED-TTL:PT1H
BEGIN:VTIMEZONE
TZID:Europe/Berlin
BEGIN:DAYLIGHT
TZOFFSETFROM:+0100
TZOFFSETTO:+0200
TZNAME:CEST
DTSTART:20230326T010000
END:DAYLIGHT
BEGIN:STANDARD
TZOFFSETFROM:+0200
TZOFFSETTO:+0100
TZNAME:CET
DTSTART:20231029T010000
END:STANDARD
BEGIN:DAYLIGHT
TZOFFSETFROM:+0100
TZOFFSETTO:+0200
TZNAME:CEST
DTSTART:20240331T010000
END:DAYLIGHT
BEGIN:STANDARD
TZOFFSETFROM:+0200
TZOFFSETTO:+0100
TZNAME:CET
DTSTART:20241027T010000
END:STANDARD
BEGIN:DAYLIGHT
TZOFFSETFROM:+0100
TZOFFSETTO:+0200
TZNAME:CEST
DTSTART:20250330T010000
END:DAYLIGHT
BEGIN:STANDARD
TZOFFSETFROM:+0200
TZOFFSETTO:+0100
TZNAME:CET
DTSTART:20251026T010000
END:STANDARD
END:VTIMEZONE
BEGIN:VEVENT
DTSTART;TZID=Europe/Berlin:20241010T180000
DTEND;TZID=Europe/Berlin:20241010T180000
DTSTAMP:20260424T235702
CREATED:20241003T103823Z
LAST-MODIFIED:20241003T161335Z
UID:978-1728583200-1728583200@www.konken.eu
SUMMARY:Leben mit Menschen in Demenz (Teil 1)
DESCRIPTION:Der Landkreis Kusel veranstaltet zwei Informationsabende zum Thema „Leben mit Menschen in Demenz“. \nWas kann man tun\, um die Ressourcen von Menschen mit Demenz zu erhalten. \nDie Referentin Frau Karola Becker gibt Lösungsmöglichkeiten bei Überforderung in Alltagssituationen und im Umgang  mit herausfordernden Verhaltensweisen bei Menschen mit Demenz. \nDie Veranstaltungen finden in Kooperation mit der AWO Tagespflege in Konken und der Ortsgemeinde Konken statt.
URL:https://www.konken.eu/event/leben-mit-menschen-in-demenz-teil-1/
LOCATION:Haus der Kulinarischen Landstraße\, Hauptstraße 42\, Konken\, 66871\, Deutschland
CATEGORIES:Infoveranstaltungen
END:VEVENT
BEGIN:VEVENT
DTSTART;TZID=Europe/Berlin:20241024T180000
DTEND;TZID=Europe/Berlin:20241024T180000
DTSTAMP:20260424T235702
CREATED:20241003T105615Z
LAST-MODIFIED:20241003T161532Z
UID:988-1729792800-1729792800@www.konken.eu
SUMMARY:Leben mit Menschen in Demenz (Teil 2)
DESCRIPTION:Der Landkreis Kusel veranstaltet den zweiten Informationsabend zum Thema „Leben mit Menschen in Demenz“. \nWas kann man tun\, um die Ressourcen von Menschen mit Demenz zu erhalten. \nDie Referentin Frau Karola Becker gibt Lösungsmöglichkeiten bei Überforderung in Alltagssituationen und im Umgang  mit herausfordernden Verhaltensweisen bei Menschen mit Demenz. \nDie Veranstaltung findet in Kooperation mit der AWO Tagespflege in Konken und der Ortsgemeinde Konken statt.
URL:https://www.konken.eu/event/leben-mit-menschen-in-demenz-teil-2-3/
LOCATION:Haus der Kulinarischen Landstraße\, Hauptstraße 42\, Konken\, 66871\, Deutschland
CATEGORIES:Infoveranstaltungen
END:VEVENT
BEGIN:VEVENT
DTSTART;TZID=Europe/Berlin:20241214T140000
DTEND;TZID=Europe/Berlin:20241214T140000
DTSTAMP:20260424T235702
CREATED:20241026T073319Z
LAST-MODIFIED:20241026T140055Z
UID:1053-1734184800-1734184800@www.konken.eu
SUMMARY:Fahrt zum Weihnachtsmarkt Ingelheim
DESCRIPTION:
URL:https://www.konken.eu/event/fahrt-zum-weihnachtmarkt-ingelheim/
END:VEVENT
BEGIN:VEVENT
DTSTART;TZID=Europe/Berlin:20241026T180000
DTEND;TZID=Europe/Berlin:20241026T180000
DTSTAMP:20260424T235702
CREATED:20241012T062015Z
LAST-MODIFIED:20241012T062117Z
UID:1015-1729965600-1729965600@www.konken.eu
SUMMARY:Helferfest Bauernmarkt 2024
DESCRIPTION:Die Gemeinde bedankt sich bei allen Helfern\, Unterstützern und Sponsoren und lädt zu einem kleinen Helferfest am 26.10.2024\, 18:00 Uhr\, in die Schulturnhalle ein. Für Essen und Trinken ist ausreichend gesorgt. \nWir möchten die Gelegenheit nutzen um Bilder des Bauernmarktes zusammenzutragen. Wer möchte kann seine digitalen Bilder mitbringen und mit uns teilen. Diese können wir dann schon am Helferfest an der Leinwand vorführen. \nDie Einladung kann an alle Helfer\, Unterstützer und Sponsoren verteilt werden. Auch über die sozialen Netzwerke. \nWir hoffen\, dass auch die Helfer und Sponsoren vom Bauernmarkt 2024 an diesem Abend sagen: \nAUCH WIR SIND 2025 WIEDER DABEI!
URL:https://www.konken.eu/event/helferfest-bauernmarkt-2024/
LOCATION:Turn- und Festhalle Konken\, Hochstraße 11\, Deutschland\, 66871\, Deutschland
ORGANIZER;CN="Ortsgemeinde Konken und Ortsvereine":MAILTO:og-konken@vgka.de
END:VEVENT
BEGIN:VEVENT
DTSTART;TZID=Europe/Berlin:20241030T190000
DTEND;TZID=Europe/Berlin:20241030T190000
DTSTAMP:20260424T235702
CREATED:20241026T070224Z
LAST-MODIFIED:20241026T070224Z
UID:1035-1730314800-1730314800@www.konken.eu
SUMMARY:Zukunfts-Check-Dorf - Themen Cafe
DESCRIPTION:Liebe Bürgerinnen und Bürger von Konken\, \ndie Auftakt- und Bürgerveranstaltung am 15. Februar 2024 ermöglichte es uns\, in Form einer ersten Ideen- und Themensammlung\, Stärken\, Schwächen sowie Ziele unserer Ortsgemeinde aufzuzeigen. Diese wurden im Laufe des Projekts Zukunfts-Check Dorf fortlaufend durch die Arbeitskreise analysiert und final bewertet. \nIm Sinne einer analogen als auch digitalen Bürgerbeteiligung wollen wir die gesamte Dorfgemeinschaft auf unserem Weg in eine gemeinsame Zukunft dazu animieren\, aktiv diesen Entwicklungsprozess mitzugestalten. Jeder Beitrag zählt\, um unser Dorf fit für die Zukunft zu machen. \n  \nDie Folgeveranstaltung\, das Themen Cafe\, soll hier anknüpfen. \nWir freuen uns auf zahlreiche Teilnahme.
URL:https://www.konken.eu/event/zukunfts-check-dorf-themen-cafe/
LOCATION:Haus der Kulinarischen Landstraße\, Hauptstraße 42\, Konken\, 66871\, Deutschland
ORGANIZER;CN="Ortsgemeinde Konken und Ortsvereine":MAILTO:og-konken@vgka.de
END:VEVENT
END:VCALENDAR