BEGIN:VCALENDAR
VERSION:2.0
PRODID:-//Ortsgemeinde Konken - ECPv6.15.11//NONSGML v1.0//EN
CALSCALE:GREGORIAN
METHOD:PUBLISH
X-ORIGINAL-URL:https://www.konken.eu
X-WR-CALDESC:Veranstaltungen für Ortsgemeinde Konken
REFRESH-INTERVAL;VALUE=DURATION:PT1H
X-Robots-Tag:noindex
X-PUBLISHED-TTL:PT1H
BEGIN:VTIMEZONE
TZID:Europe/Berlin
BEGIN:DAYLIGHT
TZOFFSETFROM:+0100
TZOFFSETTO:+0200
TZNAME:CEST
DTSTART:20230326T010000
END:DAYLIGHT
BEGIN:STANDARD
TZOFFSETFROM:+0200
TZOFFSETTO:+0100
TZNAME:CET
DTSTART:20231029T010000
END:STANDARD
BEGIN:DAYLIGHT
TZOFFSETFROM:+0100
TZOFFSETTO:+0200
TZNAME:CEST
DTSTART:20240331T010000
END:DAYLIGHT
BEGIN:STANDARD
TZOFFSETFROM:+0200
TZOFFSETTO:+0100
TZNAME:CET
DTSTART:20241027T010000
END:STANDARD
BEGIN:DAYLIGHT
TZOFFSETFROM:+0100
TZOFFSETTO:+0200
TZNAME:CEST
DTSTART:20250330T010000
END:DAYLIGHT
BEGIN:STANDARD
TZOFFSETFROM:+0200
TZOFFSETTO:+0100
TZNAME:CET
DTSTART:20251026T010000
END:STANDARD
END:VTIMEZONE
BEGIN:VEVENT
DTSTART;TZID=Europe/Berlin:20240904T190000
DTEND;TZID=Europe/Berlin:20240904T190000
DTSTAMP:20260425T011129
CREATED:20240904T140914Z
LAST-MODIFIED:20240904T140914Z
UID:929-1725476400-1725476400@www.konken.eu
SUMMARY:Sitzung des Ortsgemeinderates
DESCRIPTION:Am Mittwoch\, 04.09.2024 um 19:00 Uhr\, findet im Haus der Kulinarischen Landstraße\nKonken\, die nächste Sitzung des Ortsgemeinderates der Ortsgemeinde Konken statt. \nBeachten Sie bitte die öffentliche Bekanntmachung: \nOrtsgemeinderat_Konken_20240904_Oeffentliche_Bekanntmachung
URL:https://www.konken.eu/event/sitzung-des-ortsgemeinderates/
LOCATION:Haus der Kulinarischen Landstraße\, Hauptstraße 42\, Konken\, 66871\, Deutschland
CATEGORIES:Sitzungen
ORGANIZER;CN="Ortsgemeinde Konken und Ortsvereine":MAILTO:og-konken@vgka.de
END:VEVENT
BEGIN:VEVENT
DTSTART;TZID=Europe/Berlin:20240914T110000
DTEND;TZID=Europe/Berlin:20240914T190000
DTSTAMP:20260425T011129
CREATED:20240830T193545Z
LAST-MODIFIED:20240830T193545Z
UID:920-1726311600-1726340400@www.konken.eu
SUMMARY:Prokon Windparkfest
DESCRIPTION:Am 14. September 2024 findet im neuen Windpark Langenbach das Windparkfest der Firma Prokon statt. Es erwartet Sie ein buntes Rahmenprogramm für die ganze Familie\, Live-Musik und natürlich viel Wissenswertes rund um das Thema erneuerbare Energien. \nAls Highlight wird unter allen interessierten Besucherinnen und Besuchern Aufstiege auf eine der Windenergieanlagen direkt vor Ort verlost. \n  \n.
URL:https://www.konken.eu/event/prokon-windparkfest/
END:VEVENT
BEGIN:VEVENT
DTSTART;TZID=Europe/Berlin:20240914T180000
DTEND;TZID=Europe/Berlin:20240914T210000
DTSTAMP:20260425T011129
CREATED:20240812T184834Z
LAST-MODIFIED:20240908T073311Z
UID:882-1726336800-1726347600@www.konken.eu
SUMMARY:Vorstellung Bauernmarkt 2024
DESCRIPTION:Da großes Interesse an der Vorstellung der Planungen des Bauernmarktes erwartet wird\, wurde der Bürgerstammtisch in die Turn- und Festhalle verlegt. \nAuch die Marktplaner der Kreisverwaltung nehmen an der Veranstaltung teil und stehen für Fragen zur Verfügung. \nIm Anschluss an die Vorstellung des Marktes werden die vorbestellten T-Shirts ausgegeben. \nGetränke stehen zum Verkauf. \nDie Gemeinde freut sich über zahlreiches Erscheinen von interessierten Bürgerinnen und Bürgern\, sowie Helferinnen und Helfern. \n \n 
URL:https://www.konken.eu/event/buergerinformation-zum-bauernmarkt/
LOCATION:Turn- und Festhalle Konken\, Hochstraße 11\, Deutschland\, 66871\, Deutschland
CATEGORIES:Infoveranstaltungen
ORGANIZER;CN="Ortsgemeinde Konken und Ortsvereine":MAILTO:og-konken@vgka.de
END:VEVENT
END:VCALENDAR