BEGIN:VCALENDAR
VERSION:2.0
PRODID:-//Ortsgemeinde Konken - ECPv6.15.11//NONSGML v1.0//EN
CALSCALE:GREGORIAN
METHOD:PUBLISH
X-ORIGINAL-URL:https://www.konken.eu
X-WR-CALDESC:Veranstaltungen für Ortsgemeinde Konken
REFRESH-INTERVAL;VALUE=DURATION:PT1H
X-Robots-Tag:noindex
X-PUBLISHED-TTL:PT1H
BEGIN:VTIMEZONE
TZID:Europe/Berlin
BEGIN:DAYLIGHT
TZOFFSETFROM:+0100
TZOFFSETTO:+0200
TZNAME:CEST
DTSTART:20250330T010000
END:DAYLIGHT
BEGIN:STANDARD
TZOFFSETFROM:+0200
TZOFFSETTO:+0100
TZNAME:CET
DTSTART:20251026T010000
END:STANDARD
BEGIN:DAYLIGHT
TZOFFSETFROM:+0100
TZOFFSETTO:+0200
TZNAME:CEST
DTSTART:20260329T010000
END:DAYLIGHT
BEGIN:STANDARD
TZOFFSETFROM:+0200
TZOFFSETTO:+0100
TZNAME:CET
DTSTART:20261025T010000
END:STANDARD
BEGIN:DAYLIGHT
TZOFFSETFROM:+0100
TZOFFSETTO:+0200
TZNAME:CEST
DTSTART:20270328T010000
END:DAYLIGHT
BEGIN:STANDARD
TZOFFSETFROM:+0200
TZOFFSETTO:+0100
TZNAME:CET
DTSTART:20271031T010000
END:STANDARD
END:VTIMEZONE
BEGIN:VEVENT
DTSTART;TZID=Europe/Berlin:20260401T190000
DTEND;TZID=Europe/Berlin:20260401T190000
DTSTAMP:20260423T182338
CREATED:20260319T183042Z
LAST-MODIFIED:20260325T180748Z
UID:1877-1775070000-1775070000@www.konken.eu
SUMMARY:Sitzung des Ortsgemeinderates
DESCRIPTION:Sitzung des Ortsgemeinderates\n\n\n\n\n\nSitzung des Ortsgemeinderates der Ortsgemeinde Konken am 01. April 2026 um 19:00 Uhr. \n\n\n\n\n\n\n\n\n\n\n\n\n\nAm Mittwoch\, 01.04.2026 um 19:00 Uhr\, findet im Haus der Kulinarischen Landstraße Konken\, die nächste Sitzung des Ortsgemeinderates der Ortsgemeinde Konken statt. \nTagesordnung\nÖffentlicher Teil\n\n1.    Einwohnerfragestunde\nNach § 21 Abs. 3 der Geschäftsordnung für den Ortsgemeinderat Konken sollen dem Ortsbürgermeister nach Möglichkeit die Fragen 3 Arbeitstage vor der Sitzung schriftlich zugeleitet werden.\n \n2.    Dorfladen; hier: Aktueller Sachstand und Beratung über die weitere Vorgehensweise \n3.    Beratung über einen Antrag der Hof am Weiher AG zur Durchführung eines „Markttages“ \n4.    Beratung über einen Antrag des Dorfvereins bzgl. der Anschaffung einer Bankgarnitur \n5.    Beratung über die Änderung der Friedhofssatzung \n6.    Förderprogramm „Dritte Orte“; hier: Informationen \n7.    Vollzug der Gemeindeordnung (§ 94 Abs. 3 GemO)\, hier: Annahme einer Sponsoringleistung\n \n8.    Informationen/Verschiedenes  \nNichtöffentlicher Teil\n\n9.    Grundstücksangelegenheiten \n10.  Vertragsangelegenheiten \n11.  Informationen/Verschiedenes  \n\nKonken\, 24.03.2026\ngez. Christian Gießler\n(Ortsbürgermeister)
URL:https://www.konken.eu/event/sitzung-des-ortsgemeinderates-18/
LOCATION:Haus der Kulinarischen Landstraße\, Hauptstraße 42\, Konken\, 66871\, Deutschland
END:VEVENT
END:VCALENDAR