BEGIN:VCALENDAR
VERSION:2.0
PRODID:-//Ortsgemeinde Konken - ECPv6.15.11//NONSGML v1.0//EN
CALSCALE:GREGORIAN
METHOD:PUBLISH
X-ORIGINAL-URL:https://www.konken.eu
X-WR-CALDESC:Veranstaltungen für Ortsgemeinde Konken
REFRESH-INTERVAL;VALUE=DURATION:PT1H
X-Robots-Tag:noindex
X-PUBLISHED-TTL:PT1H
BEGIN:VTIMEZONE
TZID:Europe/Berlin
BEGIN:DAYLIGHT
TZOFFSETFROM:+0100
TZOFFSETTO:+0200
TZNAME:CEST
DTSTART:20250330T010000
END:DAYLIGHT
BEGIN:STANDARD
TZOFFSETFROM:+0200
TZOFFSETTO:+0100
TZNAME:CET
DTSTART:20251026T010000
END:STANDARD
BEGIN:DAYLIGHT
TZOFFSETFROM:+0100
TZOFFSETTO:+0200
TZNAME:CEST
DTSTART:20260329T010000
END:DAYLIGHT
BEGIN:STANDARD
TZOFFSETFROM:+0200
TZOFFSETTO:+0100
TZNAME:CET
DTSTART:20261025T010000
END:STANDARD
BEGIN:DAYLIGHT
TZOFFSETFROM:+0100
TZOFFSETTO:+0200
TZNAME:CEST
DTSTART:20270328T010000
END:DAYLIGHT
BEGIN:STANDARD
TZOFFSETFROM:+0200
TZOFFSETTO:+0100
TZNAME:CET
DTSTART:20271031T010000
END:STANDARD
END:VTIMEZONE
BEGIN:VEVENT
DTSTART;TZID=Europe/Berlin:20260330T193000
DTEND;TZID=Europe/Berlin:20260330T210000
DTSTAMP:20260423T182414
CREATED:20260224T204125Z
LAST-MODIFIED:20260314T190705Z
UID:1834-1774899000-1774904400@www.konken.eu
SUMMARY:SOMMERMARKT-CHOR - Los geht´s! Auf zum Probenbeginn!
DESCRIPTION:Sommermarkt-Chor 2026 \nOrganisator des Chores ist Matthias Leiß ( de Quetschkaschde-Taschde-Onggel) – dessen liebreizende Assistentin der Stiefelolympiaden 2009-2011\, Nicole Becker (Hasemiehl\, halwer Ehwiller) auch beim Chor als Assistentin mitwirken wird! \nDer Spaß steht bei diesem „Projekt-Chor“ absolut im Vordergrund! Es sollen 6-8 Lieder einstudiert werden\, die sonntags am Sommermarkt 2026 den Besuchern vorgestellt werden. \nEine kleine Vorauswahl wurde schon mal getroffen. Selbstverständlich sind weitere Liedvorschläge willkommen bzw. ausdrücklich erwünscht! \nVorauswahl der Lieder: \n\nDie kleine Kneipe\nGriechischer Wein\nSeemann\nLasset uns das Leben genießen\nHinter der Garage\nSommermarktslied (getextet auf Stremtal-Polka)\nBrennend heißer Wüstensand (Schön war die Zeit)\nCapri-Fischer\n\nWer Lust und Interesse hat\, kann bei Matthias Leiß (06384 3 269962) weitere Informationen erhalten.
URL:https://www.konken.eu/event/sommermarkt-chor-los-gehts-auf-zum-probenbeginn/
LOCATION:Haus der Kulinarischen Landstraße\, Hauptstraße 42\, Konken\, 66871\, Deutschland
ATTACH;FMTTYPE=image/png:https://www.konken.eu/wp-content/uploads/2026/02/Chorbild.png
END:VEVENT
END:VCALENDAR