BEGIN:VCALENDAR
VERSION:2.0
PRODID:-//Ortsgemeinde Konken - ECPv6.15.11//NONSGML v1.0//EN
CALSCALE:GREGORIAN
METHOD:PUBLISH
X-WR-CALNAME:Ortsgemeinde Konken
X-ORIGINAL-URL:https://www.konken.eu
X-WR-CALDESC:Veranstaltungen für Ortsgemeinde Konken
REFRESH-INTERVAL;VALUE=DURATION:PT1H
X-Robots-Tag:noindex
X-PUBLISHED-TTL:PT1H
BEGIN:VTIMEZONE
TZID:Europe/Berlin
BEGIN:DAYLIGHT
TZOFFSETFROM:+0100
TZOFFSETTO:+0200
TZNAME:CEST
DTSTART:20240331T010000
END:DAYLIGHT
BEGIN:STANDARD
TZOFFSETFROM:+0200
TZOFFSETTO:+0100
TZNAME:CET
DTSTART:20241027T010000
END:STANDARD
BEGIN:DAYLIGHT
TZOFFSETFROM:+0100
TZOFFSETTO:+0200
TZNAME:CEST
DTSTART:20250330T010000
END:DAYLIGHT
BEGIN:STANDARD
TZOFFSETFROM:+0200
TZOFFSETTO:+0100
TZNAME:CET
DTSTART:20251026T010000
END:STANDARD
BEGIN:DAYLIGHT
TZOFFSETFROM:+0100
TZOFFSETTO:+0200
TZNAME:CEST
DTSTART:20260329T010000
END:DAYLIGHT
BEGIN:STANDARD
TZOFFSETFROM:+0200
TZOFFSETTO:+0100
TZNAME:CET
DTSTART:20261025T010000
END:STANDARD
END:VTIMEZONE
BEGIN:VEVENT
DTSTART;TZID=Europe/Berlin:20251203T190000
DTEND;TZID=Europe/Berlin:20251203T190000
DTSTAMP:20260424T044834
CREATED:20251125T092254Z
LAST-MODIFIED:20251125T092339Z
UID:1672-1764788400-1764788400@www.konken.eu
SUMMARY:Sitzung des Ortsgemeinderates
DESCRIPTION:Sitzung des Ortsgemeinderates\n\n\n\n\n\nSitzung des Ortsgemeinderates der Ortsgemeinde Konken am 03. Dezember 2025 um 19:00 Uhr. \n\n\n\n\n\n\n\n\n\n\n\n\n\nAm Mittwoch\, 03.12.2025 um 19:00 Uhr\, findet im Haus der Kulinarischen Landstraße Konken\, die nächste Sitzung des Ortsgemeinderates der Ortsgemeinde Konken statt. \nTagesordnung\nÖffentlicher Teil\n\n1.    Beratung und Beschlussfassung über den Forstwirtschaftsplan 2026 \n2.    Vollzug des Baugesetzbuches (BauGB); Bebauungsplan „Solarpark Konken Südwest“ der Ortsgemeinde Konken\, hier:  Vorstellung des Vorentwurfs und Annahme des Entwurfs \n3.    Beratung und Beschlussfassung über den Ausbau der Homburger Str./L350 \n4.    Wahl des Rechnungsprüfungsausschusses der Ortsgemeine Konken \n5.    Friedhofssatzung der Ortsgemeinde Konken; hier: Informationen zum neuen Bestattungsgesetz \n6.    Beratung und Beschlussfassung über eine Spende zu Gunsten der Kriegsgräberfürsorge \n7.    Informationen/Verschiedenes \n8.    Bauernmarkt 2025; hier: Beratung und Beschlussfassung über eine Spende \nNichtöffentlicher Teil\n\n9.    Grundstücksangelegenheiten \n10.  Informationen/Verschiedenes \nKonken\, 24.11.2025\ngez. Christian Gießler\n(Ortsbürgermeister)
URL:https://www.konken.eu/event/sitzung-des-ortsgemeinderates-14/
LOCATION:Haus der Kulinarischen Landstraße\, Hauptstraße 42\, Konken\, 66871\, Deutschland
END:VEVENT
END:VCALENDAR