BEGIN:VCALENDAR
VERSION:2.0
PRODID:-//Ortsgemeinde Konken - ECPv6.15.11//NONSGML v1.0//EN
CALSCALE:GREGORIAN
METHOD:PUBLISH
X-ORIGINAL-URL:https://www.konken.eu
X-WR-CALDESC:Veranstaltungen für Ortsgemeinde Konken
REFRESH-INTERVAL;VALUE=DURATION:PT1H
X-Robots-Tag:noindex
X-PUBLISHED-TTL:PT1H
BEGIN:VTIMEZONE
TZID:Europe/Berlin
BEGIN:DAYLIGHT
TZOFFSETFROM:+0100
TZOFFSETTO:+0200
TZNAME:CEST
DTSTART:20240331T010000
END:DAYLIGHT
BEGIN:STANDARD
TZOFFSETFROM:+0200
TZOFFSETTO:+0100
TZNAME:CET
DTSTART:20241027T010000
END:STANDARD
BEGIN:DAYLIGHT
TZOFFSETFROM:+0100
TZOFFSETTO:+0200
TZNAME:CEST
DTSTART:20250330T010000
END:DAYLIGHT
BEGIN:STANDARD
TZOFFSETFROM:+0200
TZOFFSETTO:+0100
TZNAME:CET
DTSTART:20251026T010000
END:STANDARD
BEGIN:DAYLIGHT
TZOFFSETFROM:+0100
TZOFFSETTO:+0200
TZNAME:CEST
DTSTART:20260329T010000
END:DAYLIGHT
BEGIN:STANDARD
TZOFFSETFROM:+0200
TZOFFSETTO:+0100
TZNAME:CET
DTSTART:20261025T010000
END:STANDARD
END:VTIMEZONE
BEGIN:VEVENT
DTSTART;TZID=Europe/Berlin:20251130T113000
DTEND;TZID=Europe/Berlin:20251130T113000
DTSTAMP:20260424T061334
CREATED:20250408T191552Z
LAST-MODIFIED:20250408T191555Z
UID:1297-1764502200-1764502200@www.konken.eu
SUMMARY:Jahresabschluss VDK-Ortsverein (Interne Veranstaltung)
DESCRIPTION:
URL:https://www.konken.eu/event/jahresabschluss-vdk-ortsverein-interne-veranstaltung/
LOCATION:Gasthaus „Zum Hirschen“ – Herschweiler-Pettrsheim
END:VEVENT
END:VCALENDAR