BEGIN:VCALENDAR
VERSION:2.0
PRODID:-//Ortsgemeinde Konken - ECPv6.15.11//NONSGML v1.0//EN
CALSCALE:GREGORIAN
METHOD:PUBLISH
X-WR-CALNAME:Ortsgemeinde Konken
X-ORIGINAL-URL:https://www.konken.eu
X-WR-CALDESC:Veranstaltungen für Ortsgemeinde Konken
REFRESH-INTERVAL;VALUE=DURATION:PT1H
X-Robots-Tag:noindex
X-PUBLISHED-TTL:PT1H
BEGIN:VTIMEZONE
TZID:Europe/Berlin
BEGIN:DAYLIGHT
TZOFFSETFROM:+0100
TZOFFSETTO:+0200
TZNAME:CEST
DTSTART:20240331T010000
END:DAYLIGHT
BEGIN:STANDARD
TZOFFSETFROM:+0200
TZOFFSETTO:+0100
TZNAME:CET
DTSTART:20241027T010000
END:STANDARD
BEGIN:DAYLIGHT
TZOFFSETFROM:+0100
TZOFFSETTO:+0200
TZNAME:CEST
DTSTART:20250330T010000
END:DAYLIGHT
BEGIN:STANDARD
TZOFFSETFROM:+0200
TZOFFSETTO:+0100
TZNAME:CET
DTSTART:20251026T010000
END:STANDARD
BEGIN:DAYLIGHT
TZOFFSETFROM:+0100
TZOFFSETTO:+0200
TZNAME:CEST
DTSTART:20260329T010000
END:DAYLIGHT
BEGIN:STANDARD
TZOFFSETFROM:+0200
TZOFFSETTO:+0100
TZNAME:CET
DTSTART:20261025T010000
END:STANDARD
END:VTIMEZONE
BEGIN:VEVENT
DTSTART;TZID=Europe/Berlin:20251016T190000
DTEND;TZID=Europe/Berlin:20251016T190000
DTSTAMP:20260424T073801
CREATED:20251003T154053Z
LAST-MODIFIED:20251003T154633Z
UID:1561-1760641200-1760641200@www.konken.eu
SUMMARY:Bürgerstammtisch im "Gelobten Land Konken"
DESCRIPTION:Ei Hallo eehr Konker Leit´ unn aa gunn Dach\,\nam seschzehnde-zehnde\, werrd werrer Bürgerstammdisch gemach´.\nFerr diejeenische\, die des pälzisch nett so mäschdisch sinn\,\nschreiwe merr dass Dadumm liewer noch in Klammer enninn (16.10.2025)\nWer kann\, soll komme unn sei Meinung sahn\,\nNohr so bringe merr die Gemään voran!! \nNach bewusster Bauernmarkt-Vorbereitungs-Bürgerstammtisch-Pause startet der 5. Bürgerstammtisch unserer aufstrebenden Gemeinde im „Gelobten Land Konken“ wieder um 19:00 Uhr im Bürgersaal im „Haus der Kulinarischen Landstraße“. \nThemen seitens der Gemeinde sind diesmal „Anstehende und geplante Veranstaltungen der Gemeinde“. Der Schwerpunkt wird hier auf der Planung des Sommermarktes 2026 liegen. Aber auch das anstehende Martinsfest sowie der Stand der Planungen für den diesjährigen Weihnachtsmarkt sollen vorgestellt werden. \nWichtig:\nOhne Mitwirkung engagierter Bürger werden wir diese Veranstaltungen nicht durchführen können. Zu was Konken in der Lage ist\, hat man an den Bauernmärkten gesehen. Daran gilt es anzuknüpfen. \nAllgemeines zum Bürgerstammtisch:\nGerne können am Bürgerstammtisch auch andere Themen angesprochen werden\, die unsere Gemeinde betreffen. Anregungen\, Ideen und Kritik aus dem Bürgerstammtisch werden gehört\, ernst genommen und in den Ratssitzungen angesprochen. \nDer 5. Bürgerstammtisch wird wieder vom Gemeinderatsmitglied Matthias Leiß moderiert. Themen für zukünftige Stammtische bzw. Fragen können gerne vorab per Mail an\nmedien@konken.eu oder bei Matthias Leiß telefonisch unter 06384 3269962 eingereicht werden. \nWir hoffen\, wieder viele interessierte Bürger bei unserem Stammtisch zu treffen und freuen uns auf interessante Gespräche. \nAuch für den 5. Bürgerstammtisch gilt:\nNaseweisische\, die nohr mol gugge wolle\, wassess Naues im Derrff gebbt\, sind herzlich willkommen. \nAlso dann\, bis am 16.10.2025\, 19:00 Uhr\, im „Haus der Kulinarischen Landstraße“! \nGrüße vom Gemeinderat der aufstrebenden Gemeinde im „Gelobten Land Konken“.
URL:https://www.konken.eu/event/buergerstammtisch-im-gelobten-land-konken-3/
LOCATION:Haus der Kulinarischen Landstraße\, Hauptstraße 42\, Konken\, 66871\, Deutschland
ATTACH;FMTTYPE=image/png:https://www.konken.eu/wp-content/uploads/2025/10/Flyer-Buergerstammtisch-10_2025-Seite-1.png
END:VEVENT
END:VCALENDAR