BEGIN:VCALENDAR
VERSION:2.0
PRODID:-//Ortsgemeinde Konken - ECPv6.15.11//NONSGML v1.0//EN
CALSCALE:GREGORIAN
METHOD:PUBLISH
X-ORIGINAL-URL:https://www.konken.eu
X-WR-CALDESC:Veranstaltungen für Ortsgemeinde Konken
REFRESH-INTERVAL;VALUE=DURATION:PT1H
X-Robots-Tag:noindex
X-PUBLISHED-TTL:PT1H
BEGIN:VTIMEZONE
TZID:Europe/Berlin
BEGIN:DAYLIGHT
TZOFFSETFROM:+0100
TZOFFSETTO:+0200
TZNAME:CEST
DTSTART:20240331T010000
END:DAYLIGHT
BEGIN:STANDARD
TZOFFSETFROM:+0200
TZOFFSETTO:+0100
TZNAME:CET
DTSTART:20241027T010000
END:STANDARD
BEGIN:DAYLIGHT
TZOFFSETFROM:+0100
TZOFFSETTO:+0200
TZNAME:CEST
DTSTART:20250330T010000
END:DAYLIGHT
BEGIN:STANDARD
TZOFFSETFROM:+0200
TZOFFSETTO:+0100
TZNAME:CET
DTSTART:20251026T010000
END:STANDARD
BEGIN:DAYLIGHT
TZOFFSETFROM:+0100
TZOFFSETTO:+0200
TZNAME:CEST
DTSTART:20260329T010000
END:DAYLIGHT
BEGIN:STANDARD
TZOFFSETFROM:+0200
TZOFFSETTO:+0100
TZNAME:CET
DTSTART:20261025T010000
END:STANDARD
END:VTIMEZONE
BEGIN:VEVENT
DTSTART;TZID=Europe/Berlin:20250822T180000
DTEND;TZID=Europe/Berlin:20250822T180000
DTSTAMP:20260424T102411
CREATED:20250801T132259Z
LAST-MODIFIED:20250804T080218Z
UID:1451-1755885600-1755885600@www.konken.eu
SUMMARY:Einwohnerversammlung in der Turn- und Festhalle Konken
DESCRIPTION:Die Gemeinde lädt alle Bürgerinnen und Bürger zur Einwohnerversammlung in die Turn- und Festhalle ein. \nThema:\nInformationen zum Europäischen Bauernmarkt 2025 \nWeitere Themen können im Anschluss gerne offen angesprochen werden. \nDie Gemeinde und der Lenkungsausschuss des Bauernmarktes freuen sich auf zahlreiche Teilhnahme. \nFlyer Einwohnerversammlung 22.08.2025
URL:https://www.konken.eu/event/einwohnerversammlung-in-der-turn-und-festhalle-konken/
LOCATION:Turn- und Festhalle Konken\, Hochstraße 11\, Deutschland\, 66871\, Deutschland
END:VEVENT
END:VCALENDAR