BEGIN:VCALENDAR
VERSION:2.0
PRODID:-//Ortsgemeinde Konken - ECPv6.15.11//NONSGML v1.0//EN
CALSCALE:GREGORIAN
METHOD:PUBLISH
X-WR-CALNAME:Ortsgemeinde Konken
X-ORIGINAL-URL:https://www.konken.eu
X-WR-CALDESC:Veranstaltungen für Ortsgemeinde Konken
REFRESH-INTERVAL;VALUE=DURATION:PT1H
X-Robots-Tag:noindex
X-PUBLISHED-TTL:PT1H
BEGIN:VTIMEZONE
TZID:Europe/Berlin
BEGIN:DAYLIGHT
TZOFFSETFROM:+0100
TZOFFSETTO:+0200
TZNAME:CEST
DTSTART:20240331T010000
END:DAYLIGHT
BEGIN:STANDARD
TZOFFSETFROM:+0200
TZOFFSETTO:+0100
TZNAME:CET
DTSTART:20241027T010000
END:STANDARD
BEGIN:DAYLIGHT
TZOFFSETFROM:+0100
TZOFFSETTO:+0200
TZNAME:CEST
DTSTART:20250330T010000
END:DAYLIGHT
BEGIN:STANDARD
TZOFFSETFROM:+0200
TZOFFSETTO:+0100
TZNAME:CET
DTSTART:20251026T010000
END:STANDARD
BEGIN:DAYLIGHT
TZOFFSETFROM:+0100
TZOFFSETTO:+0200
TZNAME:CEST
DTSTART:20260329T010000
END:DAYLIGHT
BEGIN:STANDARD
TZOFFSETFROM:+0200
TZOFFSETTO:+0100
TZNAME:CET
DTSTART:20261025T010000
END:STANDARD
END:VTIMEZONE
BEGIN:VEVENT
DTSTART;TZID=Europe/Berlin:20250705T180000
DTEND;TZID=Europe/Berlin:20250705T180000
DTSTAMP:20260424T120501
CREATED:20250408T191843Z
LAST-MODIFIED:20250529T045057Z
UID:1300-1751738400-1751738400@www.konken.eu
SUMMARY:40 Jahre Obst- und Gartenbauverein Konken
DESCRIPTION:  \nSamstag 05.07.25: \nWeinprobe mit 7 Weinen\, einem Vortrag und Livemusik (Teilnehmer-Beitrag 25 €) \nZusätzlich gibt es Käsespieße und Leckeres vom Grill. \nAnmeldung bis 27.06.25 bei Alice Ludwig ( 06384 – 6542).
URL:https://www.konken.eu/event/40-jahre-obst-und-gartenbauverein-konken/
LOCATION:Gelände des OGV Konken
END:VEVENT
END:VCALENDAR