BEGIN:VCALENDAR
VERSION:2.0
PRODID:-//Ortsgemeinde Konken - ECPv6.15.11//NONSGML v1.0//EN
CALSCALE:GREGORIAN
METHOD:PUBLISH
X-ORIGINAL-URL:https://www.konken.eu
X-WR-CALDESC:Veranstaltungen für Ortsgemeinde Konken
REFRESH-INTERVAL;VALUE=DURATION:PT1H
X-Robots-Tag:noindex
X-PUBLISHED-TTL:PT1H
BEGIN:VTIMEZONE
TZID:Europe/Berlin
BEGIN:DAYLIGHT
TZOFFSETFROM:+0100
TZOFFSETTO:+0200
TZNAME:CEST
DTSTART:20240331T010000
END:DAYLIGHT
BEGIN:STANDARD
TZOFFSETFROM:+0200
TZOFFSETTO:+0100
TZNAME:CET
DTSTART:20241027T010000
END:STANDARD
BEGIN:DAYLIGHT
TZOFFSETFROM:+0100
TZOFFSETTO:+0200
TZNAME:CEST
DTSTART:20250330T010000
END:DAYLIGHT
BEGIN:STANDARD
TZOFFSETFROM:+0200
TZOFFSETTO:+0100
TZNAME:CET
DTSTART:20251026T010000
END:STANDARD
BEGIN:DAYLIGHT
TZOFFSETFROM:+0100
TZOFFSETTO:+0200
TZNAME:CEST
DTSTART:20260329T010000
END:DAYLIGHT
BEGIN:STANDARD
TZOFFSETFROM:+0200
TZOFFSETTO:+0100
TZNAME:CET
DTSTART:20261025T010000
END:STANDARD
END:VTIMEZONE
BEGIN:VEVENT
DTSTART;TZID=Europe/Berlin:20250507T190000
DTEND;TZID=Europe/Berlin:20250507T190000
DTSTAMP:20260424T150910
CREATED:20250501T191445Z
LAST-MODIFIED:20250501T191505Z
UID:1353-1746644400-1746644400@www.konken.eu
SUMMARY:Sitzung des Ortsgemeinderates
DESCRIPTION:Sitzung des Ortsgemeinderates der Ortsgemeinde Konken am 07. Mai 2025 um 19:00 Uhr. \n\n\n\n\n\n\n\n\n\n\n\n\n\nAm Mittwoch\, 07.05.2025 um 19:00 Uhr\, findet im Haus der Kulinarischen Landstraße Konken\, die nächste Sitzung des Ortsgemeinderates der Ortsgemeinde Konken statt. \nTagesordnung\nÖffentlicher Teil\n\n1.    Einwohnerfragestunde\nNach § 21 Abs. 3 der Geschäftsordnung für den Ortsgemeinderat Konken sollen dem Ortsbürgermeister nach Möglichkeit die Fragen 3 Arbeitstage vor der Sitzung schriftlich zugeleitet werden. \n2.    Turn- und Festhalle in der Ortsgemeinde Konken \n2.1    Beratung über die zukünftige Nutzung \n2.2    Beratung und Beschlussfassung über Umbaumaßnahmen \n\n3.    Bauernmarkt 2025; hier: Informationen \n4.    Übertragung von Haushaltsausgaberesten (HAR) gemäß § 17 GemHVO \n5.    Vollzug des Baugesetzbuches (BauGB); gemeindliches Einvernehmen gem. § 36 BauGB wegen einer Bauvoranfrage \n6.   Informationen/Verschiedenes  \nNichtöffentlicher Teil \n7.   Personalangelegenheiten \n8.   Grundstücksangelegenheiten\n\n9.   Informationen/Verschiedenes  \nKonken\, 28.04.2025\ngez. Christian Gießler\n(Ortsbürgermeister)
URL:https://www.konken.eu/event/sitzung-des-ortsgemeinderates-8/
LOCATION:Haus der Kulinarischen Landstraße\, Hauptstraße 42\, Konken\, 66871\, Deutschland
END:VEVENT
END:VCALENDAR