BEGIN:VCALENDAR
VERSION:2.0
PRODID:-//Ortsgemeinde Konken - ECPv6.15.11//NONSGML v1.0//EN
CALSCALE:GREGORIAN
METHOD:PUBLISH
X-ORIGINAL-URL:https://www.konken.eu
X-WR-CALDESC:Veranstaltungen für Ortsgemeinde Konken
REFRESH-INTERVAL;VALUE=DURATION:PT1H
X-Robots-Tag:noindex
X-PUBLISHED-TTL:PT1H
BEGIN:VTIMEZONE
TZID:Europe/Berlin
BEGIN:DAYLIGHT
TZOFFSETFROM:+0100
TZOFFSETTO:+0200
TZNAME:CEST
DTSTART:20240331T010000
END:DAYLIGHT
BEGIN:STANDARD
TZOFFSETFROM:+0200
TZOFFSETTO:+0100
TZNAME:CET
DTSTART:20241027T010000
END:STANDARD
BEGIN:DAYLIGHT
TZOFFSETFROM:+0100
TZOFFSETTO:+0200
TZNAME:CEST
DTSTART:20250330T010000
END:DAYLIGHT
BEGIN:STANDARD
TZOFFSETFROM:+0200
TZOFFSETTO:+0100
TZNAME:CET
DTSTART:20251026T010000
END:STANDARD
BEGIN:DAYLIGHT
TZOFFSETFROM:+0100
TZOFFSETTO:+0200
TZNAME:CEST
DTSTART:20260329T010000
END:DAYLIGHT
BEGIN:STANDARD
TZOFFSETFROM:+0200
TZOFFSETTO:+0100
TZNAME:CET
DTSTART:20261025T010000
END:STANDARD
END:VTIMEZONE
BEGIN:VEVENT
DTSTART;TZID=Europe/Berlin:20250429T190000
DTEND;TZID=Europe/Berlin:20250429T190000
DTSTAMP:20260424T150006
CREATED:20250418T130846Z
LAST-MODIFIED:20250418T130851Z
UID:1324-1745953200-1745953200@www.konken.eu
SUMMARY:Bürgerstammtisch im "Gelobten Land Konken"
DESCRIPTION:  \nEi Hallo unn gunn Dach eehr Konker Leit´\, \nam 29. April isses werrer soweit! \nDo treffe sich die Junge unn ah die Alde\, \num die Zukunft vumm Derrff im „Gelobte Land“ se gestalde. \nWenn veel komme dääde\, dass wär´scheen\, \ndenn\, nohr sesamme kriemer ebbes Gudes heen! \n  \nAuch der nächste Bürgerstammtisch unserer aufstrebenden Gemeinde im „Gelobten Land Konken“ startet wieder um 19:00 Uhr im Bürgersaal im „Haus der Kulinarischen Landstraße“. \nThema seitens der Gemeinde wird diesmal „Förderantrag Umbau „Haus der Kulinarischen Landstraße“ zum Dorfladen“ sein. Im Rahmen des Regionalen Zukunftsprogramms „Regional. Zukunft. Nachhaltig.“ des Landes Rheinland-Pfalz haben wir uns im Gemeinderat überlegt\, für welche Projekte wir Fördermittel beantragen wollen. Größte Priorität legen wir hierbei auf die Schaffung von Einkaufsmöglichkeiten zur Nahversorgung. \n  \nHier nochmals ein paar allgemeine Informationen zum Bürgerstammtisch: \nGerne können am Bürgerstammtisch auch andere Themen angesprochen werden\, die unsere Gemeinde betreffen. (Nett schenneert und nohr raus demmett\, wo´s driggt unn was gesaaht werre muss!!!) \nFragen\, die nicht an diesem Abend beantwortet werden können\, werden im nächsten Bürgerstammtisch beantwortet\, soweit das möglich ist. \n  \nDer Bürgerstammtisch wird wieder von einem Gemeinderatsmitglied moderiert. \nThemen für zukünftige Bürgerstammtische bzw. Fragen können gerne vorab per Mail an \nmedien@konken.eu  oder bei Matthias Leiß telefonisch unter 06384 3269962 eingereicht werden. \n  \nWir hoffen\, wieder viele interessierte Bürger bei unserem Stammtisch zu treffen und freuen uns auf interessante Gespräche. \n  \nAuch gilt immer noch: \nAa Naseweisische\, die nohr mol gugge wolle\, wassess Naues im Derrff gebbt\, sind herzlich willkommen. \n  \nAlso dann\, bis am 29. April 2025\, 19:00 Uhr\, im „Haus der Kulinarischen Landstraße“! \n  \nGrüße vom Gemeinderat der aufstrebenden Gemeinde im „Gelobten Land Konken“.
URL:https://www.konken.eu/event/buergerstammtisch-im-gelobten-land-konken/
LOCATION:Haus der Kulinarischen Landstraße\, Hauptstraße 42\, Konken\, 66871\, Deutschland
END:VEVENT
END:VCALENDAR