BEGIN:VCALENDAR
VERSION:2.0
PRODID:-//Ortsgemeinde Konken - ECPv6.15.11//NONSGML v1.0//EN
CALSCALE:GREGORIAN
METHOD:PUBLISH
X-ORIGINAL-URL:https://www.konken.eu
X-WR-CALDESC:Veranstaltungen für Ortsgemeinde Konken
REFRESH-INTERVAL;VALUE=DURATION:PT1H
X-Robots-Tag:noindex
X-PUBLISHED-TTL:PT1H
BEGIN:VTIMEZONE
TZID:Europe/Berlin
BEGIN:DAYLIGHT
TZOFFSETFROM:+0100
TZOFFSETTO:+0200
TZNAME:CEST
DTSTART:20240331T010000
END:DAYLIGHT
BEGIN:STANDARD
TZOFFSETFROM:+0200
TZOFFSETTO:+0100
TZNAME:CET
DTSTART:20241027T010000
END:STANDARD
BEGIN:DAYLIGHT
TZOFFSETFROM:+0100
TZOFFSETTO:+0200
TZNAME:CEST
DTSTART:20250330T010000
END:DAYLIGHT
BEGIN:STANDARD
TZOFFSETFROM:+0200
TZOFFSETTO:+0100
TZNAME:CET
DTSTART:20251026T010000
END:STANDARD
BEGIN:DAYLIGHT
TZOFFSETFROM:+0100
TZOFFSETTO:+0200
TZNAME:CEST
DTSTART:20260329T010000
END:DAYLIGHT
BEGIN:STANDARD
TZOFFSETFROM:+0200
TZOFFSETTO:+0100
TZNAME:CET
DTSTART:20261025T010000
END:STANDARD
END:VTIMEZONE
BEGIN:VEVENT
DTSTART;TZID=Europe/Berlin:20250419T140000
DTEND;TZID=Europe/Berlin:20250419T160000
DTSTAMP:20260424T165806
CREATED:20250408T191208Z
LAST-MODIFIED:20250410T171646Z
UID:1291-1745071200-1745078400@www.konken.eu
SUMMARY:Ostereiersuche im "Gelobten Land Konken"
DESCRIPTION:Am Ostereiersuch-Samstag\, 19. April 2025 \nUhrzeit: zwischen 14:00 und 16:00 Uhr \nAn der Grundschule Konken \n  \nFür Kinder bis zehn Jahre. \nVornmeldungen bei Ortsbürgermeister Gießler bis zum 15. April mit Name und Alter des Kindes unter: \nMail: c-giessler@t-online.de \nPlakat Ostereiersuche \nPlakat+Ostereiersuche im Gelobten Land \nDie Gemeinde bedankt sich beim ZollstockHof für die Spende der Ostereier! \n  \n  \n 
URL:https://www.konken.eu/event/ostereiersuche-im-gelobten-land-konken/
LOCATION:Wiese an der Grundschule
END:VEVENT
END:VCALENDAR