BEGIN:VCALENDAR
VERSION:2.0
PRODID:-//Ortsgemeinde Konken - ECPv6.15.11//NONSGML v1.0//EN
CALSCALE:GREGORIAN
METHOD:PUBLISH
X-ORIGINAL-URL:https://www.konken.eu
X-WR-CALDESC:Veranstaltungen für Ortsgemeinde Konken
REFRESH-INTERVAL;VALUE=DURATION:PT1H
X-Robots-Tag:noindex
X-PUBLISHED-TTL:PT1H
BEGIN:VTIMEZONE
TZID:Europe/Berlin
BEGIN:DAYLIGHT
TZOFFSETFROM:+0100
TZOFFSETTO:+0200
TZNAME:CEST
DTSTART:20240331T010000
END:DAYLIGHT
BEGIN:STANDARD
TZOFFSETFROM:+0200
TZOFFSETTO:+0100
TZNAME:CET
DTSTART:20241027T010000
END:STANDARD
BEGIN:DAYLIGHT
TZOFFSETFROM:+0100
TZOFFSETTO:+0200
TZNAME:CEST
DTSTART:20250330T010000
END:DAYLIGHT
BEGIN:STANDARD
TZOFFSETFROM:+0200
TZOFFSETTO:+0100
TZNAME:CET
DTSTART:20251026T010000
END:STANDARD
BEGIN:DAYLIGHT
TZOFFSETFROM:+0100
TZOFFSETTO:+0200
TZNAME:CEST
DTSTART:20260329T010000
END:DAYLIGHT
BEGIN:STANDARD
TZOFFSETFROM:+0200
TZOFFSETTO:+0100
TZNAME:CET
DTSTART:20261025T010000
END:STANDARD
END:VTIMEZONE
BEGIN:VEVENT
DTSTART;TZID=Europe/Berlin:20250327T140000
DTEND;TZID=Europe/Berlin:20250327T160000
DTSTAMP:20260424T181836
CREATED:20250301T123234Z
LAST-MODIFIED:20250301T123234Z
UID:1251-1743084000-1743091200@www.konken.eu
SUMMARY:Offener Seniorennachmittag
DESCRIPTION:AWO Tagespflege Konken \nFriedhofstraße 2 \nOffener Seniorennachmittag \n• mit Kaffee und Kuchen\n• Märchenstunde\n• kostenlos & unverbindlich\nUm besser planen zu können\, bitten wir um Anmeldung \nTel.: 06384 99 303 90\nMail: tagespflege-konken@awo-pfalz.de
URL:https://www.konken.eu/event/offener-seniorennachmittag-2/
LOCATION:AWO Tagespflege\, Friedhofstraße 2
END:VEVENT
BEGIN:VEVENT
DTSTART;TZID=Europe/Berlin:20250327T190000
DTEND;TZID=Europe/Berlin:20250327T190000
DTSTAMP:20260424T181836
CREATED:20250323T061300Z
LAST-MODIFIED:20250323T061303Z
UID:1272-1743102000-1743102000@www.konken.eu
SUMMARY:Sitzung des Ortsgemeinderates
DESCRIPTION:Am Donnerstag\, 27.03.2025 um 19:00 Uhr\, findet im Haus der Kulinarischen Landstraße Konken\, die nächste Sitzung des Ortsgemeinderates der Ortsgemeinde Konken statt. \nTagesordnung\nÖffentlicher Teil\n\n1.    Beratung zum Thema Förderprogramme \n2.    Beratung über Vermietung des Haus der Kulinarischen Landstraße \n3.    Informationen/Verschiedenes \nKonken\, 14.03.2025\ngez. Christian Gießler\n(Ortsbürgermeister)
URL:https://www.konken.eu/event/sitzung-des-ortsgemeinderates-6/
LOCATION:Haus der Kulinarischen Landstraße\, Hauptstraße 42\, Konken\, 66871\, Deutschland
ORGANIZER;CN="Ortsgemeinde Konken und Ortsvereine":MAILTO:og-konken@vgka.de
END:VEVENT
END:VCALENDAR