BEGIN:VCALENDAR
VERSION:2.0
PRODID:-//Ortsgemeinde Konken - ECPv6.15.11//NONSGML v1.0//EN
CALSCALE:GREGORIAN
METHOD:PUBLISH
X-ORIGINAL-URL:https://www.konken.eu
X-WR-CALDESC:Veranstaltungen für Ortsgemeinde Konken
REFRESH-INTERVAL;VALUE=DURATION:PT1H
X-Robots-Tag:noindex
X-PUBLISHED-TTL:PT1H
BEGIN:VTIMEZONE
TZID:Europe/Berlin
BEGIN:DAYLIGHT
TZOFFSETFROM:+0100
TZOFFSETTO:+0200
TZNAME:CEST
DTSTART:20240331T010000
END:DAYLIGHT
BEGIN:STANDARD
TZOFFSETFROM:+0200
TZOFFSETTO:+0100
TZNAME:CET
DTSTART:20241027T010000
END:STANDARD
BEGIN:DAYLIGHT
TZOFFSETFROM:+0100
TZOFFSETTO:+0200
TZNAME:CEST
DTSTART:20250330T010000
END:DAYLIGHT
BEGIN:STANDARD
TZOFFSETFROM:+0200
TZOFFSETTO:+0100
TZNAME:CET
DTSTART:20251026T010000
END:STANDARD
BEGIN:DAYLIGHT
TZOFFSETFROM:+0100
TZOFFSETTO:+0200
TZNAME:CEST
DTSTART:20260329T010000
END:DAYLIGHT
BEGIN:STANDARD
TZOFFSETFROM:+0200
TZOFFSETTO:+0100
TZNAME:CET
DTSTART:20261025T010000
END:STANDARD
END:VTIMEZONE
BEGIN:VEVENT
DTSTART;TZID=Europe/Berlin:20250325T160000
DTEND;TZID=Europe/Berlin:20250325T210000
DTSTAMP:20260424T181740
CREATED:20250305T130619Z
LAST-MODIFIED:20250306T072950Z
UID:1259-1742918400-1742936400@www.konken.eu
SUMMARY:Konker Ü 60 geht digital (2. Teil)
DESCRIPTION:Themen des 2 Workshops: \n– Ordnung auf dem Handy \n– Sperrbildschirm\, Startbildschirm \n– App Menue \n  \n1. Gruppe von 16:00 – 17:30 Uhr \n2. Gruppe von 17:30 – 19:00 Uhr \n3. Gruppe von 19:00 – 20:30 Uhr \n  \nInformationen erhalten Sie bei: \nDigital-Botschafter Peter Theiss \nTel.: o6384 993 126 \nMail: di.bo.petertheiss@gmail.com
URL:https://www.konken.eu/event/konker-ue-60-geht-digital-2-teil/
LOCATION:Haus der Kulinarischen Landstraße\, Hauptstraße 42\, Konken\, 66871\, Deutschland
ORGANIZER;CN="Ortsgemeinde Konken und Ortsvereine":MAILTO:og-konken@vgka.de
END:VEVENT
END:VCALENDAR