BEGIN:VCALENDAR
VERSION:2.0
PRODID:-//Ortsgemeinde Konken - ECPv6.15.11//NONSGML v1.0//EN
CALSCALE:GREGORIAN
METHOD:PUBLISH
X-ORIGINAL-URL:https://www.konken.eu
X-WR-CALDESC:Veranstaltungen für Ortsgemeinde Konken
REFRESH-INTERVAL;VALUE=DURATION:PT1H
X-Robots-Tag:noindex
X-PUBLISHED-TTL:PT1H
BEGIN:VTIMEZONE
TZID:Europe/Berlin
BEGIN:DAYLIGHT
TZOFFSETFROM:+0100
TZOFFSETTO:+0200
TZNAME:CEST
DTSTART:20240331T010000
END:DAYLIGHT
BEGIN:STANDARD
TZOFFSETFROM:+0200
TZOFFSETTO:+0100
TZNAME:CET
DTSTART:20241027T010000
END:STANDARD
BEGIN:DAYLIGHT
TZOFFSETFROM:+0100
TZOFFSETTO:+0200
TZNAME:CEST
DTSTART:20250330T010000
END:DAYLIGHT
BEGIN:STANDARD
TZOFFSETFROM:+0200
TZOFFSETTO:+0100
TZNAME:CET
DTSTART:20251026T010000
END:STANDARD
BEGIN:DAYLIGHT
TZOFFSETFROM:+0100
TZOFFSETTO:+0200
TZNAME:CEST
DTSTART:20260329T010000
END:DAYLIGHT
BEGIN:STANDARD
TZOFFSETFROM:+0200
TZOFFSETTO:+0100
TZNAME:CET
DTSTART:20261025T010000
END:STANDARD
END:VTIMEZONE
BEGIN:VEVENT
DTSTART;TZID=Europe/Berlin:20250313T190000
DTEND;TZID=Europe/Berlin:20250313T210000
DTSTAMP:20260424T181843
CREATED:20250116T094122Z
LAST-MODIFIED:20250222T083723Z
UID:1190-1741892400-1741899600@www.konken.eu
SUMMARY:Bürgerstammtisch der Gemeinde Konken
DESCRIPTION:Ei Hallo unn gunn Dach eehr Konker Leit´\, \nam 13.März isses werrer soweit! \nDo treffe merr uns im Kulinarium zum gemietliche Plausch\, \nmerr kennt a saahn: Zum Bürgerstammtisch-Gedankenaustausch. \nBevor sich werrer jimannd an meiner Schreibweis´ steert\, \nwerrd mett der Reimerei jetzt liewer uffgeheert! \nDer nächste Bürgerstammtisch startet wieder um 19:00 Uhr im Bürgersaal im „Haus der Kulinarischen Landstraße“. \nThema seitens der Gemeinde wird „Veranstaltungen der Gemeinde und Vereine 2025/2026“ sein. Bei der letzten Vereinsvertretersitzung im Februar wurden zahlreiche Veranstaltungen angesprochen\, die wieder bzw. neu ins Dorfgeschehen aufgenommen werden sollen. Wir wollen hier als Gemeinde gemeinsam mit den Vereinen und Bürgern versuchen\, frühestmöglich Helfer für die geplanten Veranstaltungen zu finden. Auch Bürger\, die kein Mitglied in einem teilnehmenden Verein sind\, wollen wir als Helfer für diese Veranstaltungen gewinnen. \nHier nochmals ein paar allgemeine Informationen zum Bürgerstammtisch: \nWir werden wieder alle gemeinsam in einer großen Runde zusammensitzen. Auf einzelne kleine Tischgruppen wird bewusst verzichtet. \nGerne können am Bürgerstammtisch auch andere Themen angesprochen werden\, die unsere Gemeinde betreffen. Da sicherlich Vertreter des Lenkungsausschusses des Bauernmarktes 2025 am Stammtisch anwesend sein werden\, besteht auch die Möglichkeit\, an diesem Abend Infos zum Stand der Dinge „Bauernmarkt 2025“ aus „erster Hand“ zu erhalten. \nFragen\, die nicht an diesem Abend beantwortet werden können\, werden im nächsten Bürgerstammtisch beantwortet\, soweit das möglich ist. \nDer Bürgerstammtisch wird wieder vom Gemeinderatsmitglied Matthias Leiß moderiert. \nThemen für zukünftige Bürgerstammtische bzw. Fragen können gerne vorab per Mail an \nmedien@konken.eu  oder bei Matthias Leiß telefonisch unter 06384 3269962 eingereicht werden. \nWir hoffen\, wieder viele interessierte Bürger bei unserem Stammtisch zu treffen und freuen uns wieder auf interessante Gespräche. \nAuch gilt noch: \nAa Naseweisische\, die nohr mol gugge wolle\, wassess Naues im Derrff gebbt\, sind herzlich willkommen. \nAlso dann\, bis am 13. März 2025\, 19:00 Uhr im „Haus der Kulinarischen Landstraße“! \nGrüße vom Gemeinderat „der aufstrebenden Gemeinde im gelobten Land“ Konken.
URL:https://www.konken.eu/event/buergerstammtisch-der-gemeinde-konken-2/
LOCATION:Haus der Kulinarischen Landstraße\, Hauptstraße 42\, Konken\, 66871\, Deutschland
ORGANIZER;CN="Ortsgemeinde Konken und Ortsvereine":MAILTO:og-konken@vgka.de
END:VEVENT
END:VCALENDAR