BEGIN:VCALENDAR
VERSION:2.0
PRODID:-//Ortsgemeinde Konken - ECPv6.15.11//NONSGML v1.0//EN
CALSCALE:GREGORIAN
METHOD:PUBLISH
X-WR-CALNAME:Ortsgemeinde Konken
X-ORIGINAL-URL:https://www.konken.eu
X-WR-CALDESC:Veranstaltungen für Ortsgemeinde Konken
REFRESH-INTERVAL;VALUE=DURATION:PT1H
X-Robots-Tag:noindex
X-PUBLISHED-TTL:PT1H
BEGIN:VTIMEZONE
TZID:Europe/Berlin
BEGIN:DAYLIGHT
TZOFFSETFROM:+0100
TZOFFSETTO:+0200
TZNAME:CEST
DTSTART:20240331T010000
END:DAYLIGHT
BEGIN:STANDARD
TZOFFSETFROM:+0200
TZOFFSETTO:+0100
TZNAME:CET
DTSTART:20241027T010000
END:STANDARD
BEGIN:DAYLIGHT
TZOFFSETFROM:+0100
TZOFFSETTO:+0200
TZNAME:CEST
DTSTART:20250330T010000
END:DAYLIGHT
BEGIN:STANDARD
TZOFFSETFROM:+0200
TZOFFSETTO:+0100
TZNAME:CET
DTSTART:20251026T010000
END:STANDARD
BEGIN:DAYLIGHT
TZOFFSETFROM:+0100
TZOFFSETTO:+0200
TZNAME:CEST
DTSTART:20260329T010000
END:DAYLIGHT
BEGIN:STANDARD
TZOFFSETFROM:+0200
TZOFFSETTO:+0100
TZNAME:CET
DTSTART:20261025T010000
END:STANDARD
END:VTIMEZONE
BEGIN:VEVENT
DTSTART;TZID=Europe/Berlin:20250114T190000
DTEND;TZID=Europe/Berlin:20250114T213000
DTSTAMP:20260424T210831
CREATED:20241128T053658Z
LAST-MODIFIED:20241204T193639Z
UID:1123-1736881200-1736890200@www.konken.eu
SUMMARY:Bürgerstammtisch der Gemeinde Konken
DESCRIPTION:der Gemeinderat Konken lädt alle Bürger zum Bürgerstammtisch ins „Haus der Kulinarischen Landstraße“ ein. \nWir vom Gemeinderat erhoffen uns über den Bürgerstammtisch in einen Dialog/ Meinungsaustausch mit unseren Bürgern zu kommen. \nThema seitens der Gemeinde an diesem Bürgerstammtisch: Zukunft-Check Dorf. \nIm Anschluss steht aber jedem Bürger frei\, auch andere Themen in der Runde vorzutragen! Die Themen sollen aber mit unserer  Gemeinde in Verbindung stehen. Es soll an diesem Abend ausschließlich um Konker Themen gehen. \nWir vom Gemeinderat sind offen für Kritik (ausdrücklich erwünscht!) und Vorschläge\, die unsere Gemeinde voranbringen können. Es besteht also die Möglichkeit\, sich aktiv ins Gemeindeleben mit einzubringen. \nWir hoffen viele interessierte Bürger bei unserem Stammtisch zu treffen und freuen uns auf interessante Gespräche. \nGrüße vom Gemeinderat „der aufstrebenden Gemeinde im gelobten Land“ Konken.
URL:https://www.konken.eu/event/buergerstammtisch-der-gemeinde-konken/
LOCATION:Haus der Kulinarischen Landstraße\, Hauptstraße 42\, Konken\, 66871\, Deutschland
ORGANIZER;CN="Ortsgemeinde Konken und Ortsvereine":MAILTO:og-konken@vgka.de
END:VEVENT
END:VCALENDAR